BEGIN:VCALENDAR
VERSION:2.0
PRODID:-//Cold Life Entertainment - ECPv6.15.20//NONSGML v1.0//EN
CALSCALE:GREGORIAN
METHOD:PUBLISH
X-ORIGINAL-URL:https://www.coldlife-entertainment.com
X-WR-CALDESC:Veranstaltungen für Cold Life Entertainment
REFRESH-INTERVAL;VALUE=DURATION:PT1H
X-Robots-Tag:noindex
X-PUBLISHED-TTL:PT1H
BEGIN:VTIMEZONE
TZID:Europe/Berlin
BEGIN:DAYLIGHT
TZOFFSETFROM:+0100
TZOFFSETTO:+0200
TZNAME:CEST
DTSTART:20250330T010000
END:DAYLIGHT
BEGIN:STANDARD
TZOFFSETFROM:+0200
TZOFFSETTO:+0100
TZNAME:CET
DTSTART:20251026T010000
END:STANDARD
BEGIN:DAYLIGHT
TZOFFSETFROM:+0100
TZOFFSETTO:+0200
TZNAME:CEST
DTSTART:20260329T010000
END:DAYLIGHT
BEGIN:STANDARD
TZOFFSETFROM:+0200
TZOFFSETTO:+0100
TZNAME:CET
DTSTART:20261025T010000
END:STANDARD
BEGIN:DAYLIGHT
TZOFFSETFROM:+0100
TZOFFSETTO:+0200
TZNAME:CEST
DTSTART:20270328T010000
END:DAYLIGHT
BEGIN:STANDARD
TZOFFSETFROM:+0200
TZOFFSETTO:+0100
TZNAME:CET
DTSTART:20271031T010000
END:STANDARD
END:VTIMEZONE
BEGIN:VEVENT
DTSTART;TZID=Europe/Berlin:20261008T200000
DTEND;TZID=Europe/Berlin:20261008T233000
DTSTAMP:20260425T135258
CREATED:20250604T161614Z
LAST-MODIFIED:20250604T161622Z
UID:3098-1791489600-1791502200@www.coldlife-entertainment.com
SUMMARY:CIVO
DESCRIPTION:Nach zwei komplett ausverkauften Tourneen kündigt CIVO mit der „Bis zum Mond und zurück“ Tour 2026 seine bisher größte und energiegeladenste Live-Tournee an und verspricht neue Songs\, alte Hits und jede Menge Gänsehaut-Momente! \nCIVO ist ein deutscher Rapper aus Nordrhein-Westfalen. Mit seiner Hit-Single „Weg von mir“ und mittlerweile über 100 Millionen Streams katapultierte er sich im Frühjahr 2022 bis an die Spitze aller deutschen Streaming-Anbieter. Über Wochen hielt er sich auf Platz eins bei Spotify und auf Platz vier der deutschen Single-Charts. Seither unterstreicht CIVO seinen Erfolg mit millionenfach gestreamten Releases\, Gold-Auszeichnungen und einer konstanten Live-Präsenz auf Festivals und ausverkauften Club-Shows in Deutschland\, Österreich und der Schweiz. \nIm Juli 2023 veröffentlichte CIVO seine gefeierte EP „Alle Cover“\, darunter der melancholische Track „Regen am Strand“\, in dem er von einer gescheiterten Beziehung erzählt. Im Januar 2024 folgte der beliebte Song „Keine Homies“\, produziert von Maxe – ein Soundtrack für Verliebte oder für alle\, die wissen\, dass da mehr ist\, als nur Freundschaft. Der Song schlug so sehr ein\, dass im Februar gleich mehrere Remixe erschienen. \nIm April 2024 spielte CIVO eine ausverkaufte Tournee mit sieben Terminen und einer Zusatzshow in Köln. Auch die „Weg von hier“ Tour 2025 war restlos ausverkauft – mit zehn Shows quer durch Deutschland\, Österreich und die Schweiz. Jetzt folgt der nächste Schritt: Auf der „Bis zum Mond und zurück“ Tour 2026 könnt ihr CIVO mit neuen Songs\, alten Hits und jeder Menge Gänsehaut-Momenten live auf Tour erleben – näher dran geht nicht.
URL:https://www.coldlife-entertainment.com/event/civo-ch-zuerich/
LOCATION:Komplex 457\, Hohlstrasse 457\, CH-Zürich\, 8048\, Schweiz
ATTACH;FMTTYPE=image/jpeg:https://www.coldlife-entertainment.com/wp-content/uploads/2025/06/CIVO-Pressebild-01-©-Fabian-Kirchner-scaled.jpg
ORGANIZER;CN="Cold Life Booking GmbH":MAILTO:info@coldlife-booking.com
END:VEVENT
BEGIN:VEVENT
DTSTART;TZID=Europe/Berlin:20261009T200000
DTEND;TZID=Europe/Berlin:20261009T233000
DTSTAMP:20260425T135258
CREATED:20250604T161750Z
LAST-MODIFIED:20250604T161756Z
UID:3100-1791576000-1791588600@www.coldlife-entertainment.com
SUMMARY:CIVO
DESCRIPTION:Nach zwei komplett ausverkauften Tourneen kündigt CIVO mit der „Bis zum Mond und zurück“ Tour 2026 seine bisher größte und energiegeladenste Live-Tournee an und verspricht neue Songs\, alte Hits und jede Menge Gänsehaut-Momente! \nCIVO ist ein deutscher Rapper aus Nordrhein-Westfalen. Mit seiner Hit-Single „Weg von mir“ und mittlerweile über 100 Millionen Streams katapultierte er sich im Frühjahr 2022 bis an die Spitze aller deutschen Streaming-Anbieter. Über Wochen hielt er sich auf Platz eins bei Spotify und auf Platz vier der deutschen Single-Charts. Seither unterstreicht CIVO seinen Erfolg mit millionenfach gestreamten Releases\, Gold-Auszeichnungen und einer konstanten Live-Präsenz auf Festivals und ausverkauften Club-Shows in Deutschland\, Österreich und der Schweiz. \nIm Juli 2023 veröffentlichte CIVO seine gefeierte EP „Alle Cover“\, darunter der melancholische Track „Regen am Strand“\, in dem er von einer gescheiterten Beziehung erzählt. Im Januar 2024 folgte der beliebte Song „Keine Homies“\, produziert von Maxe – ein Soundtrack für Verliebte oder für alle\, die wissen\, dass da mehr ist\, als nur Freundschaft. Der Song schlug so sehr ein\, dass im Februar gleich mehrere Remixe erschienen. \nIm April 2024 spielte CIVO eine ausverkaufte Tournee mit sieben Terminen und einer Zusatzshow in Köln. Auch die „Weg von hier“ Tour 2025 war restlos ausverkauft – mit zehn Shows quer durch Deutschland\, Österreich und die Schweiz. Jetzt folgt der nächste Schritt: Auf der „Bis zum Mond und zurück“ Tour 2026 könnt ihr CIVO mit neuen Songs\, alten Hits und jeder Menge Gänsehaut-Momenten live auf Tour erleben – näher dran geht nicht.
URL:https://www.coldlife-entertainment.com/event/civo-muenchen/
LOCATION:TonHalle\, Atelierstraße 24\, München\, 81671\, Deutschland
ATTACH;FMTTYPE=image/jpeg:https://www.coldlife-entertainment.com/wp-content/uploads/2025/06/CIVO-Pressebild-01-©-Fabian-Kirchner-scaled.jpg
ORGANIZER;CN="Cold Life Booking GmbH":MAILTO:info@coldlife-booking.com
END:VEVENT
BEGIN:VEVENT
DTSTART;TZID=Europe/Berlin:20261010T200000
DTEND;TZID=Europe/Berlin:20261010T233000
DTSTAMP:20260425T135258
CREATED:20250604T161911Z
LAST-MODIFIED:20250604T161917Z
UID:3102-1791662400-1791675000@www.coldlife-entertainment.com
SUMMARY:CIVO
DESCRIPTION:Nach zwei komplett ausverkauften Tourneen kündigt CIVO mit der „Bis zum Mond und zurück“ Tour 2026 seine bisher größte und energiegeladenste Live-Tournee an und verspricht neue Songs\, alte Hits und jede Menge Gänsehaut-Momente! \nCIVO ist ein deutscher Rapper aus Nordrhein-Westfalen. Mit seiner Hit-Single „Weg von mir“ und mittlerweile über 100 Millionen Streams katapultierte er sich im Frühjahr 2022 bis an die Spitze aller deutschen Streaming-Anbieter. Über Wochen hielt er sich auf Platz eins bei Spotify und auf Platz vier der deutschen Single-Charts. Seither unterstreicht CIVO seinen Erfolg mit millionenfach gestreamten Releases\, Gold-Auszeichnungen und einer konstanten Live-Präsenz auf Festivals und ausverkauften Club-Shows in Deutschland\, Österreich und der Schweiz. \nIm Juli 2023 veröffentlichte CIVO seine gefeierte EP „Alle Cover“\, darunter der melancholische Track „Regen am Strand“\, in dem er von einer gescheiterten Beziehung erzählt. Im Januar 2024 folgte der beliebte Song „Keine Homies“\, produziert von Maxe – ein Soundtrack für Verliebte oder für alle\, die wissen\, dass da mehr ist\, als nur Freundschaft. Der Song schlug so sehr ein\, dass im Februar gleich mehrere Remixe erschienen. \nIm April 2024 spielte CIVO eine ausverkaufte Tournee mit sieben Terminen und einer Zusatzshow in Köln. Auch die „Weg von hier“ Tour 2025 war restlos ausverkauft – mit zehn Shows quer durch Deutschland\, Österreich und die Schweiz. Jetzt folgt der nächste Schritt: Auf der „Bis zum Mond und zurück“ Tour 2026 könnt ihr CIVO mit neuen Songs\, alten Hits und jeder Menge Gänsehaut-Momenten live auf Tour erleben – näher dran geht nicht.
URL:https://www.coldlife-entertainment.com/event/civo-at-wien/
LOCATION:SimmCity\, Simmeringer Hauptstraße 96a\, AT-Wien\, 1110\, Österreich
ATTACH;FMTTYPE=image/jpeg:https://www.coldlife-entertainment.com/wp-content/uploads/2025/06/CIVO-Pressebild-01-©-Fabian-Kirchner-scaled.jpg
ORGANIZER;CN="Cold Life Booking GmbH":MAILTO:info@coldlife-booking.com
END:VEVENT
BEGIN:VEVENT
DTSTART;TZID=Europe/Berlin:20261012T200000
DTEND;TZID=Europe/Berlin:20261012T233000
DTSTAMP:20260425T135258
CREATED:20250604T162045Z
LAST-MODIFIED:20250604T162106Z
UID:3104-1791835200-1791847800@www.coldlife-entertainment.com
SUMMARY:CIVO
DESCRIPTION:Nach zwei komplett ausverkauften Tourneen kündigt CIVO mit der „Bis zum Mond und zurück“ Tour 2026 seine bisher größte und energiegeladenste Live-Tournee an und verspricht neue Songs\, alte Hits und jede Menge Gänsehaut-Momente! \nCIVO ist ein deutscher Rapper aus Nordrhein-Westfalen. Mit seiner Hit-Single „Weg von mir“ und mittlerweile über 100 Millionen Streams katapultierte er sich im Frühjahr 2022 bis an die Spitze aller deutschen Streaming-Anbieter. Über Wochen hielt er sich auf Platz eins bei Spotify und auf Platz vier der deutschen Single-Charts. Seither unterstreicht CIVO seinen Erfolg mit millionenfach gestreamten Releases\, Gold-Auszeichnungen und einer konstanten Live-Präsenz auf Festivals und ausverkauften Club-Shows in Deutschland\, Österreich und der Schweiz. \nIm Juli 2023 veröffentlichte CIVO seine gefeierte EP „Alle Cover“\, darunter der melancholische Track „Regen am Strand“\, in dem er von einer gescheiterten Beziehung erzählt. Im Januar 2024 folgte der beliebte Song „Keine Homies“\, produziert von Maxe – ein Soundtrack für Verliebte oder für alle\, die wissen\, dass da mehr ist\, als nur Freundschaft. Der Song schlug so sehr ein\, dass im Februar gleich mehrere Remixe erschienen. \nIm April 2024 spielte CIVO eine ausverkaufte Tournee mit sieben Terminen und einer Zusatzshow in Köln. Auch die „Weg von hier“ Tour 2025 war restlos ausverkauft – mit zehn Shows quer durch Deutschland\, Österreich und die Schweiz. Jetzt folgt der nächste Schritt: Auf der „Bis zum Mond und zurück“ Tour 2026 könnt ihr CIVO mit neuen Songs\, alten Hits und jeder Menge Gänsehaut-Momenten live auf Tour erleben – näher dran geht nicht.
URL:https://www.coldlife-entertainment.com/event/civo-stuttgart/
LOCATION:LKA Longhorn\, Heiligenwiesen 6\, Stuttgart\, 70327\, Germany
ATTACH;FMTTYPE=image/jpeg:https://www.coldlife-entertainment.com/wp-content/uploads/2025/06/CIVO-Pressebild-01-©-Fabian-Kirchner-scaled.jpg
ORGANIZER;CN="Cold Life Booking GmbH":MAILTO:info@coldlife-booking.com
END:VEVENT
BEGIN:VEVENT
DTSTART;TZID=Europe/Berlin:20261015T200000
DTEND;TZID=Europe/Berlin:20261015T233000
DTSTAMP:20260425T135258
CREATED:20250604T162220Z
LAST-MODIFIED:20250604T162241Z
UID:3106-1792094400-1792107000@www.coldlife-entertainment.com
SUMMARY:CIVO
DESCRIPTION:Nach zwei komplett ausverkauften Tourneen kündigt CIVO mit der „Bis zum Mond und zurück“ Tour 2026 seine bisher größte und energiegeladenste Live-Tournee an und verspricht neue Songs\, alte Hits und jede Menge Gänsehaut-Momente! \nCIVO ist ein deutscher Rapper aus Nordrhein-Westfalen. Mit seiner Hit-Single „Weg von mir“ und mittlerweile über 100 Millionen Streams katapultierte er sich im Frühjahr 2022 bis an die Spitze aller deutschen Streaming-Anbieter. Über Wochen hielt er sich auf Platz eins bei Spotify und auf Platz vier der deutschen Single-Charts. Seither unterstreicht CIVO seinen Erfolg mit millionenfach gestreamten Releases\, Gold-Auszeichnungen und einer konstanten Live-Präsenz auf Festivals und ausverkauften Club-Shows in Deutschland\, Österreich und der Schweiz. \nIm Juli 2023 veröffentlichte CIVO seine gefeierte EP „Alle Cover“\, darunter der melancholische Track „Regen am Strand“\, in dem er von einer gescheiterten Beziehung erzählt. Im Januar 2024 folgte der beliebte Song „Keine Homies“\, produziert von Maxe – ein Soundtrack für Verliebte oder für alle\, die wissen\, dass da mehr ist\, als nur Freundschaft. Der Song schlug so sehr ein\, dass im Februar gleich mehrere Remixe erschienen. \nIm April 2024 spielte CIVO eine ausverkaufte Tournee mit sieben Terminen und einer Zusatzshow in Köln. Auch die „Weg von hier“ Tour 2025 war restlos ausverkauft – mit zehn Shows quer durch Deutschland\, Österreich und die Schweiz. Jetzt folgt der nächste Schritt: Auf der „Bis zum Mond und zurück“ Tour 2026 könnt ihr CIVO mit neuen Songs\, alten Hits und jeder Menge Gänsehaut-Momenten live auf Tour erleben – näher dran geht nicht.
URL:https://www.coldlife-entertainment.com/event/civo-frankfurt/
LOCATION:Batschkapp\, Gwinnerstraße 5\, Frankfurt\, 60388\, Deutschland
ATTACH;FMTTYPE=image/jpeg:https://www.coldlife-entertainment.com/wp-content/uploads/2025/06/CIVO-Pressebild-01-©-Fabian-Kirchner-scaled.jpg
ORGANIZER;CN="Cold Life Booking GmbH":MAILTO:info@coldlife-booking.com
END:VEVENT
BEGIN:VEVENT
DTSTART;TZID=Europe/Berlin:20261016T200000
DTEND;TZID=Europe/Berlin:20261016T233000
DTSTAMP:20260425T135258
CREATED:20250604T162427Z
LAST-MODIFIED:20250604T162433Z
UID:3108-1792180800-1792193400@www.coldlife-entertainment.com
SUMMARY:CIVO
DESCRIPTION:Nach zwei komplett ausverkauften Tourneen kündigt CIVO mit der „Bis zum Mond und zurück“ Tour 2026 seine bisher größte und energiegeladenste Live-Tournee an und verspricht neue Songs\, alte Hits und jede Menge Gänsehaut-Momente! \nCIVO ist ein deutscher Rapper aus Nordrhein-Westfalen. Mit seiner Hit-Single „Weg von mir“ und mittlerweile über 100 Millionen Streams katapultierte er sich im Frühjahr 2022 bis an die Spitze aller deutschen Streaming-Anbieter. Über Wochen hielt er sich auf Platz eins bei Spotify und auf Platz vier der deutschen Single-Charts. Seither unterstreicht CIVO seinen Erfolg mit millionenfach gestreamten Releases\, Gold-Auszeichnungen und einer konstanten Live-Präsenz auf Festivals und ausverkauften Club-Shows in Deutschland\, Österreich und der Schweiz. \nIm Juli 2023 veröffentlichte CIVO seine gefeierte EP „Alle Cover“\, darunter der melancholische Track „Regen am Strand“\, in dem er von einer gescheiterten Beziehung erzählt. Im Januar 2024 folgte der beliebte Song „Keine Homies“\, produziert von Maxe – ein Soundtrack für Verliebte oder für alle\, die wissen\, dass da mehr ist\, als nur Freundschaft. Der Song schlug so sehr ein\, dass im Februar gleich mehrere Remixe erschienen. \nIm April 2024 spielte CIVO eine ausverkaufte Tournee mit sieben Terminen und einer Zusatzshow in Köln. Auch die „Weg von hier“ Tour 2025 war restlos ausverkauft – mit zehn Shows quer durch Deutschland\, Österreich und die Schweiz. Jetzt folgt der nächste Schritt: Auf der „Bis zum Mond und zurück“ Tour 2026 könnt ihr CIVO mit neuen Songs\, alten Hits und jeder Menge Gänsehaut-Momenten live auf Tour erleben – näher dran geht nicht.
URL:https://www.coldlife-entertainment.com/event/civo-berlin/
LOCATION:Huxleys Neue Welt\, Hasenheide 107-113\, Berlin\, 10967\, Deutschland
ATTACH;FMTTYPE=image/jpeg:https://www.coldlife-entertainment.com/wp-content/uploads/2025/06/CIVO-Pressebild-01-©-Fabian-Kirchner-scaled.jpg
ORGANIZER;CN="Cold Life Booking GmbH":MAILTO:info@coldlife-booking.com
END:VEVENT
BEGIN:VEVENT
DTSTART;TZID=Europe/Berlin:20261018T193000
DTEND;TZID=Europe/Berlin:20261018T233000
DTSTAMP:20260425T135258
CREATED:20250604T162550Z
LAST-MODIFIED:20250604T162557Z
UID:3110-1792351800-1792366200@www.coldlife-entertainment.com
SUMMARY:CIVO
DESCRIPTION:Nach zwei komplett ausverkauften Tourneen kündigt CIVO mit der „Bis zum Mond und zurück“ Tour 2026 seine bisher größte und energiegeladenste Live-Tournee an und verspricht neue Songs\, alte Hits und jede Menge Gänsehaut-Momente! \nCIVO ist ein deutscher Rapper aus Nordrhein-Westfalen. Mit seiner Hit-Single „Weg von mir“ und mittlerweile über 100 Millionen Streams katapultierte er sich im Frühjahr 2022 bis an die Spitze aller deutschen Streaming-Anbieter. Über Wochen hielt er sich auf Platz eins bei Spotify und auf Platz vier der deutschen Single-Charts. Seither unterstreicht CIVO seinen Erfolg mit millionenfach gestreamten Releases\, Gold-Auszeichnungen und einer konstanten Live-Präsenz auf Festivals und ausverkauften Club-Shows in Deutschland\, Österreich und der Schweiz. \nIm Juli 2023 veröffentlichte CIVO seine gefeierte EP „Alle Cover“\, darunter der melancholische Track „Regen am Strand“\, in dem er von einer gescheiterten Beziehung erzählt. Im Januar 2024 folgte der beliebte Song „Keine Homies“\, produziert von Maxe – ein Soundtrack für Verliebte oder für alle\, die wissen\, dass da mehr ist\, als nur Freundschaft. Der Song schlug so sehr ein\, dass im Februar gleich mehrere Remixe erschienen. \nIm April 2024 spielte CIVO eine ausverkaufte Tournee mit sieben Terminen und einer Zusatzshow in Köln. Auch die „Weg von hier“ Tour 2025 war restlos ausverkauft – mit zehn Shows quer durch Deutschland\, Österreich und die Schweiz. Jetzt folgt der nächste Schritt: Auf der „Bis zum Mond und zurück“ Tour 2026 könnt ihr CIVO mit neuen Songs\, alten Hits und jeder Menge Gänsehaut-Momenten live auf Tour erleben – näher dran geht nicht.
URL:https://www.coldlife-entertainment.com/event/civo-hamburg/
LOCATION:Inselpark Arena\, Kurt-Emmerich-Platz 10-12\, Hamburg\, 21109\, Germany
ATTACH;FMTTYPE=image/jpeg:https://www.coldlife-entertainment.com/wp-content/uploads/2025/06/CIVO-Pressebild-01-©-Fabian-Kirchner-scaled.jpg
ORGANIZER;CN="Cold Life Booking GmbH":MAILTO:info@coldlife-booking.com
END:VEVENT
BEGIN:VEVENT
DTSTART;TZID=Europe/Berlin:20261024T200000
DTEND;TZID=Europe/Berlin:20261024T233000
DTSTAMP:20260425T135258
CREATED:20250604T162647Z
LAST-MODIFIED:20250604T162653Z
UID:3112-1792872000-1792884600@www.coldlife-entertainment.com
SUMMARY:CIVO
DESCRIPTION:Nach zwei komplett ausverkauften Tourneen kündigt CIVO mit der „Bis zum Mond und zurück“ Tour 2026 seine bisher größte und energiegeladenste Live-Tournee an und verspricht neue Songs\, alte Hits und jede Menge Gänsehaut-Momente! \nCIVO ist ein deutscher Rapper aus Nordrhein-Westfalen. Mit seiner Hit-Single „Weg von mir“ und mittlerweile über 100 Millionen Streams katapultierte er sich im Frühjahr 2022 bis an die Spitze aller deutschen Streaming-Anbieter. Über Wochen hielt er sich auf Platz eins bei Spotify und auf Platz vier der deutschen Single-Charts. Seither unterstreicht CIVO seinen Erfolg mit millionenfach gestreamten Releases\, Gold-Auszeichnungen und einer konstanten Live-Präsenz auf Festivals und ausverkauften Club-Shows in Deutschland\, Österreich und der Schweiz. \nIm Juli 2023 veröffentlichte CIVO seine gefeierte EP „Alle Cover“\, darunter der melancholische Track „Regen am Strand“\, in dem er von einer gescheiterten Beziehung erzählt. Im Januar 2024 folgte der beliebte Song „Keine Homies“\, produziert von Maxe – ein Soundtrack für Verliebte oder für alle\, die wissen\, dass da mehr ist\, als nur Freundschaft. Der Song schlug so sehr ein\, dass im Februar gleich mehrere Remixe erschienen. \nIm April 2024 spielte CIVO eine ausverkaufte Tournee mit sieben Terminen und einer Zusatzshow in Köln. Auch die „Weg von hier“ Tour 2025 war restlos ausverkauft – mit zehn Shows quer durch Deutschland\, Österreich und die Schweiz. Jetzt folgt der nächste Schritt: Auf der „Bis zum Mond und zurück“ Tour 2026 könnt ihr CIVO mit neuen Songs\, alten Hits und jeder Menge Gänsehaut-Momenten live auf Tour erleben – näher dran geht nicht.
URL:https://www.coldlife-entertainment.com/event/civo-koeln/
LOCATION:Palladium\, Schanzenstraße 40\, Köln\, 51063\, Germany
ATTACH;FMTTYPE=image/jpeg:https://www.coldlife-entertainment.com/wp-content/uploads/2025/06/CIVO-Pressebild-01-©-Fabian-Kirchner-scaled.jpg
ORGANIZER;CN="Cold Life Booking GmbH":MAILTO:info@coldlife-booking.com
END:VEVENT
END:VCALENDAR