BEGIN:VCALENDAR
VERSION:2.0
PRODID:-//Cold Life Entertainment - ECPv6.15.20//NONSGML v1.0//EN
CALSCALE:GREGORIAN
METHOD:PUBLISH
X-WR-CALNAME:Cold Life Entertainment
X-ORIGINAL-URL:https://www.coldlife-entertainment.com
X-WR-CALDESC:Veranstaltungen für Cold Life Entertainment
REFRESH-INTERVAL;VALUE=DURATION:PT1H
X-Robots-Tag:noindex
X-PUBLISHED-TTL:PT1H
BEGIN:VTIMEZONE
TZID:Europe/Berlin
BEGIN:DAYLIGHT
TZOFFSETFROM:+0100
TZOFFSETTO:+0200
TZNAME:CEST
DTSTART:20240331T010000
END:DAYLIGHT
BEGIN:STANDARD
TZOFFSETFROM:+0200
TZOFFSETTO:+0100
TZNAME:CET
DTSTART:20241027T010000
END:STANDARD
BEGIN:DAYLIGHT
TZOFFSETFROM:+0100
TZOFFSETTO:+0200
TZNAME:CEST
DTSTART:20250330T010000
END:DAYLIGHT
BEGIN:STANDARD
TZOFFSETFROM:+0200
TZOFFSETTO:+0100
TZNAME:CET
DTSTART:20251026T010000
END:STANDARD
BEGIN:DAYLIGHT
TZOFFSETFROM:+0100
TZOFFSETTO:+0200
TZNAME:CEST
DTSTART:20260329T010000
END:DAYLIGHT
BEGIN:STANDARD
TZOFFSETFROM:+0200
TZOFFSETTO:+0100
TZNAME:CET
DTSTART:20261025T010000
END:STANDARD
END:VTIMEZONE
BEGIN:VEVENT
DTSTART;TZID=Europe/Berlin:20251003T200000
DTEND;TZID=Europe/Berlin:20251003T233000
DTSTAMP:20260421T105616
CREATED:20250606T052454Z
LAST-MODIFIED:20250606T052502Z
UID:3123-1759521600-1759534200@www.coldlife-entertainment.com
SUMMARY:Stockmann
DESCRIPTION:Stockmann kommt mit seinem neuen Album „Dunkelheit“ auf ausgedehnte Deutschland-Tournee und bestätigt zugleich ein besonderes Jahresabschlusskonzert in seiner Heimatstadt Hamburg! \nStockmann aus Hamburg verbindet in seiner Musik die düsteren Klänge von Post-Punk\, Synth-Pop\, Dark-Pop und New Wave. Treibende Synthesizer und atmosphärische Gitarren erschaffen einen Sound\, der zugleich melancholisch und eindringlich ist. Seine Texte greifen tiefgehende gesellschaftliche Themen auf und reflektieren seine persönliche Auseinandersetzung damit. Seit der Veröffentlichung seiner ersten Single im Jahr 2021 hat er auf Spotify bereits über 10 Millionen Streams erreicht. \nAm 23. Mai 2025 erschien sein neues Album „Dunkelheit“\, auf dem er seinen charakteristischen Sound weiterentwickelt und neue klangliche Tiefen auslotet. Im Herbst geht Stockmann mit dem Album auf seine erste ausgedehnte Deutschland-Tournee. Die Dunkelheit Tour 2025 umfasst sechs Konzerte in München\, Stuttgart\, Frankfurt\, Hannover\, Köln und Berlin. \nDen krönenden Abschluss des Konzertjahres bildet ein besonderes Jahresabschlusskonzert in seiner Heimatstadt: Am 19. Dezember 2025 spielt Stockmann auf der legendären MS Stubnitz im Hamburger Hafen – einer Location\, deren industrieller Charme perfekt zur düsteren Ästhetik seiner Musik passt. Dieses Konzert war bereits im Dezember 2024 ein voller Erfolg und weit im Voraus ausverkauft.
URL:https://www.coldlife-entertainment.com/event/stockmann-muenchen/
LOCATION:Milla\, Holzstraße 8\, München\, 80469\, Germany
ATTACH;FMTTYPE=image/jpeg:https://www.coldlife-entertainment.com/wp-content/uploads/2025/06/Stockmann-Pressebild-01-©-Jannis-Stockmann.jpg
ORGANIZER;CN="Cold Life Booking GmbH":MAILTO:info@coldlife-booking.com
END:VEVENT
BEGIN:VEVENT
DTSTART;TZID=Europe/Berlin:20251004T200000
DTEND;TZID=Europe/Berlin:20251004T233000
DTSTAMP:20260421T105616
CREATED:20250606T052621Z
LAST-MODIFIED:20250606T052627Z
UID:3126-1759608000-1759620600@www.coldlife-entertainment.com
SUMMARY:Stockmann
DESCRIPTION:Stockmann kommt mit seinem neuen Album „Dunkelheit“ auf ausgedehnte Deutschland-Tournee und bestätigt zugleich ein besonderes Jahresabschlusskonzert in seiner Heimatstadt Hamburg! \nStockmann aus Hamburg verbindet in seiner Musik die düsteren Klänge von Post-Punk\, Synth-Pop\, Dark-Pop und New Wave. Treibende Synthesizer und atmosphärische Gitarren erschaffen einen Sound\, der zugleich melancholisch und eindringlich ist. Seine Texte greifen tiefgehende gesellschaftliche Themen auf und reflektieren seine persönliche Auseinandersetzung damit. Seit der Veröffentlichung seiner ersten Single im Jahr 2021 hat er auf Spotify bereits über 10 Millionen Streams erreicht. \nAm 23. Mai 2025 erschien sein neues Album „Dunkelheit“\, auf dem er seinen charakteristischen Sound weiterentwickelt und neue klangliche Tiefen auslotet. Im Herbst geht Stockmann mit dem Album auf seine erste ausgedehnte Deutschland-Tournee. Die Dunkelheit Tour 2025 umfasst sechs Konzerte in München\, Stuttgart\, Frankfurt\, Hannover\, Köln und Berlin. \nDen krönenden Abschluss des Konzertjahres bildet ein besonderes Jahresabschlusskonzert in seiner Heimatstadt: Am 19. Dezember 2025 spielt Stockmann auf der legendären MS Stubnitz im Hamburger Hafen – einer Location\, deren industrieller Charme perfekt zur düsteren Ästhetik seiner Musik passt. Dieses Konzert war bereits im Dezember 2024 ein voller Erfolg und weit im Voraus ausverkauft.
URL:https://www.coldlife-entertainment.com/event/stockmann-stuttgart/
LOCATION:Schräglage\, Hirschstraße 14\, Stuttgart\, 70173\, Germany
ATTACH;FMTTYPE=image/jpeg:https://www.coldlife-entertainment.com/wp-content/uploads/2025/06/Stockmann-Pressebild-01-©-Jannis-Stockmann.jpg
ORGANIZER;CN="Cold Life Booking GmbH":MAILTO:info@coldlife-booking.com
END:VEVENT
BEGIN:VEVENT
DTSTART;TZID=Europe/Berlin:20251005T200000
DTEND;TZID=Europe/Berlin:20251005T233000
DTSTAMP:20260421T105616
CREATED:20250606T052713Z
LAST-MODIFIED:20250606T052719Z
UID:3129-1759694400-1759707000@www.coldlife-entertainment.com
SUMMARY:Stockmann
DESCRIPTION:Stockmann kommt mit seinem neuen Album „Dunkelheit“ auf ausgedehnte Deutschland-Tournee und bestätigt zugleich ein besonderes Jahresabschlusskonzert in seiner Heimatstadt Hamburg! \nStockmann aus Hamburg verbindet in seiner Musik die düsteren Klänge von Post-Punk\, Synth-Pop\, Dark-Pop und New Wave. Treibende Synthesizer und atmosphärische Gitarren erschaffen einen Sound\, der zugleich melancholisch und eindringlich ist. Seine Texte greifen tiefgehende gesellschaftliche Themen auf und reflektieren seine persönliche Auseinandersetzung damit. Seit der Veröffentlichung seiner ersten Single im Jahr 2021 hat er auf Spotify bereits über 10 Millionen Streams erreicht. \nAm 23. Mai 2025 erschien sein neues Album „Dunkelheit“\, auf dem er seinen charakteristischen Sound weiterentwickelt und neue klangliche Tiefen auslotet. Im Herbst geht Stockmann mit dem Album auf seine erste ausgedehnte Deutschland-Tournee. Die Dunkelheit Tour 2025 umfasst sechs Konzerte in München\, Stuttgart\, Frankfurt\, Hannover\, Köln und Berlin. \nDen krönenden Abschluss des Konzertjahres bildet ein besonderes Jahresabschlusskonzert in seiner Heimatstadt: Am 19. Dezember 2025 spielt Stockmann auf der legendären MS Stubnitz im Hamburger Hafen – einer Location\, deren industrieller Charme perfekt zur düsteren Ästhetik seiner Musik passt. Dieses Konzert war bereits im Dezember 2024 ein voller Erfolg und weit im Voraus ausverkauft.
URL:https://www.coldlife-entertainment.com/event/stockmann-frankfurt/
LOCATION:Nachtleben\, Kurt-Schumacher-Straße 45\, Frankfurt\, 60313
ATTACH;FMTTYPE=image/jpeg:https://www.coldlife-entertainment.com/wp-content/uploads/2025/06/Stockmann-Pressebild-01-©-Jannis-Stockmann.jpg
ORGANIZER;CN="Cold Life Booking GmbH":MAILTO:info@coldlife-booking.com
END:VEVENT
BEGIN:VEVENT
DTSTART;TZID=Europe/Berlin:20251010T200000
DTEND;TZID=Europe/Berlin:20251010T233000
DTSTAMP:20260421T105616
CREATED:20250606T052802Z
LAST-MODIFIED:20250606T052807Z
UID:3131-1760126400-1760139000@www.coldlife-entertainment.com
SUMMARY:Stockmann
DESCRIPTION:Stockmann kommt mit seinem neuen Album „Dunkelheit“ auf ausgedehnte Deutschland-Tournee und bestätigt zugleich ein besonderes Jahresabschlusskonzert in seiner Heimatstadt Hamburg! \nStockmann aus Hamburg verbindet in seiner Musik die düsteren Klänge von Post-Punk\, Synth-Pop\, Dark-Pop und New Wave. Treibende Synthesizer und atmosphärische Gitarren erschaffen einen Sound\, der zugleich melancholisch und eindringlich ist. Seine Texte greifen tiefgehende gesellschaftliche Themen auf und reflektieren seine persönliche Auseinandersetzung damit. Seit der Veröffentlichung seiner ersten Single im Jahr 2021 hat er auf Spotify bereits über 10 Millionen Streams erreicht. \nAm 23. Mai 2025 erschien sein neues Album „Dunkelheit“\, auf dem er seinen charakteristischen Sound weiterentwickelt und neue klangliche Tiefen auslotet. Im Herbst geht Stockmann mit dem Album auf seine erste ausgedehnte Deutschland-Tournee. Die Dunkelheit Tour 2025 umfasst sechs Konzerte in München\, Stuttgart\, Frankfurt\, Hannover\, Köln und Berlin. \nDen krönenden Abschluss des Konzertjahres bildet ein besonderes Jahresabschlusskonzert in seiner Heimatstadt: Am 19. Dezember 2025 spielt Stockmann auf der legendären MS Stubnitz im Hamburger Hafen – einer Location\, deren industrieller Charme perfekt zur düsteren Ästhetik seiner Musik passt. Dieses Konzert war bereits im Dezember 2024 ein voller Erfolg und weit im Voraus ausverkauft.
URL:https://www.coldlife-entertainment.com/event/stockmann-hannover/
LOCATION:Lux\, Schwarzer Bär 2\, Hannover\, 30449
ATTACH;FMTTYPE=image/jpeg:https://www.coldlife-entertainment.com/wp-content/uploads/2025/06/Stockmann-Pressebild-01-©-Jannis-Stockmann.jpg
ORGANIZER;CN="Cold Life Booking GmbH":MAILTO:info@coldlife-booking.com
END:VEVENT
BEGIN:VEVENT
DTSTART;TZID=Europe/Berlin:20251011T193000
DTEND;TZID=Europe/Berlin:20251011T233000
DTSTAMP:20260421T105616
CREATED:20250606T052936Z
LAST-MODIFIED:20250606T052946Z
UID:3133-1760211000-1760225400@www.coldlife-entertainment.com
SUMMARY:Stockmann
DESCRIPTION:Stockmann kommt mit seinem neuen Album „Dunkelheit“ auf ausgedehnte Deutschland-Tournee und bestätigt zugleich ein besonderes Jahresabschlusskonzert in seiner Heimatstadt Hamburg! \nStockmann aus Hamburg verbindet in seiner Musik die düsteren Klänge von Post-Punk\, Synth-Pop\, Dark-Pop und New Wave. Treibende Synthesizer und atmosphärische Gitarren erschaffen einen Sound\, der zugleich melancholisch und eindringlich ist. Seine Texte greifen tiefgehende gesellschaftliche Themen auf und reflektieren seine persönliche Auseinandersetzung damit. Seit der Veröffentlichung seiner ersten Single im Jahr 2021 hat er auf Spotify bereits über 10 Millionen Streams erreicht. \nAm 23. Mai 2025 erschien sein neues Album „Dunkelheit“\, auf dem er seinen charakteristischen Sound weiterentwickelt und neue klangliche Tiefen auslotet. Im Herbst geht Stockmann mit dem Album auf seine erste ausgedehnte Deutschland-Tournee. Die Dunkelheit Tour 2025 umfasst sechs Konzerte in München\, Stuttgart\, Frankfurt\, Hannover\, Köln und Berlin. \nDen krönenden Abschluss des Konzertjahres bildet ein besonderes Jahresabschlusskonzert in seiner Heimatstadt: Am 19. Dezember 2025 spielt Stockmann auf der legendären MS Stubnitz im Hamburger Hafen – einer Location\, deren industrieller Charme perfekt zur düsteren Ästhetik seiner Musik passt. Dieses Konzert war bereits im Dezember 2024 ein voller Erfolg und weit im Voraus ausverkauft.
URL:https://www.coldlife-entertainment.com/event/stockmann-koeln/
LOCATION:Garagen\, Oskar-Jäger-Straße 179\, Köln\, 50825\, Germany
ATTACH;FMTTYPE=image/jpeg:https://www.coldlife-entertainment.com/wp-content/uploads/2025/06/Stockmann-Pressebild-01-©-Jannis-Stockmann.jpg
ORGANIZER;CN="Cold Life Booking GmbH":MAILTO:info@coldlife-booking.com
END:VEVENT
BEGIN:VEVENT
DTSTART;TZID=Europe/Berlin:20251012T200000
DTEND;TZID=Europe/Berlin:20251012T233000
DTSTAMP:20260421T105616
CREATED:20250606T053113Z
LAST-MODIFIED:20250606T053118Z
UID:3136-1760299200-1760311800@www.coldlife-entertainment.com
SUMMARY:Stockmann
DESCRIPTION:Stockmann kommt mit seinem neuen Album „Dunkelheit“ auf ausgedehnte Deutschland-Tournee und bestätigt zugleich ein besonderes Jahresabschlusskonzert in seiner Heimatstadt Hamburg! \nStockmann aus Hamburg verbindet in seiner Musik die düsteren Klänge von Post-Punk\, Synth-Pop\, Dark-Pop und New Wave. Treibende Synthesizer und atmosphärische Gitarren erschaffen einen Sound\, der zugleich melancholisch und eindringlich ist. Seine Texte greifen tiefgehende gesellschaftliche Themen auf und reflektieren seine persönliche Auseinandersetzung damit. Seit der Veröffentlichung seiner ersten Single im Jahr 2021 hat er auf Spotify bereits über 10 Millionen Streams erreicht. \nAm 23. Mai 2025 erschien sein neues Album „Dunkelheit“\, auf dem er seinen charakteristischen Sound weiterentwickelt und neue klangliche Tiefen auslotet. Im Herbst geht Stockmann mit dem Album auf seine erste ausgedehnte Deutschland-Tournee. Die Dunkelheit Tour 2025 umfasst sechs Konzerte in München\, Stuttgart\, Frankfurt\, Hannover\, Köln und Berlin. \nDen krönenden Abschluss des Konzertjahres bildet ein besonderes Jahresabschlusskonzert in seiner Heimatstadt: Am 19. Dezember 2025 spielt Stockmann auf der legendären MS Stubnitz im Hamburger Hafen – einer Location\, deren industrieller Charme perfekt zur düsteren Ästhetik seiner Musik passt. Dieses Konzert war bereits im Dezember 2024 ein voller Erfolg und weit im Voraus ausverkauft.
URL:https://www.coldlife-entertainment.com/event/stockmann-berlin/
LOCATION:Prachtwerk\, Ganghoferstraße 2\, Berlin\, 12043\, Germany
ATTACH;FMTTYPE=image/jpeg:https://www.coldlife-entertainment.com/wp-content/uploads/2025/06/Stockmann-Pressebild-01-©-Jannis-Stockmann.jpg
ORGANIZER;CN="Cold Life Booking GmbH":MAILTO:info@coldlife-booking.com
END:VEVENT
BEGIN:VEVENT
DTSTART;TZID=Europe/Berlin:20251022T200000
DTEND;TZID=Europe/Berlin:20251022T233000
DTSTAMP:20260421T105616
CREATED:20241010T041909Z
LAST-MODIFIED:20241010T041930Z
UID:2855-1761163200-1761175800@www.coldlife-entertainment.com
SUMMARY:DAME
DESCRIPTION:Nach dem Erfolg von „Allzeit Bereit“\, der Fortsetzung seines WoW-Evergreens „12 Millionen“\, bestätigt DAME nun für 2025 die erste Hallen-Tournee seit drei Jahren! \nSeit nun über einer Dekade begeistert DAME seine treue Anhängerschaft. Egal\, ob es darum geht\, mit tiefer Stimme über deftige Beats zu brettern oder Ohrwürmer aufs Blatt zu zaubern\, die einen wochenlang nicht mehr in Ruhe lassen. Etliche Top-Ten-Alben\, ausverkaufte Tourneen und rekordverdächtige Zahlen sind nur ein kleiner Auszug der bisherigen Karriere des Begründers deutschsprachiger Gaming-Musik. \nLetzteres wurde kürzlich mit „Allzeit Bereit“\, der Fortsetzung seines WoW-Evergreens „12 Millionen“\, abermals gekonnt unter Beweis gestellt. So generierte DAMEüber Nacht mehr als jeweils 100.000 Aufrufe sowohl auf Spotify als auch auf YouTube\, wo er sich ohne große Anstrengung Platz vier der deutschen Trends sichern konnte. \nNach wohlverdienter Auszeit und Schaffenspause\, mit Ausnahme einer Handvoll ausgewählter Open-Air-Konzerte\, ist die Freude umso größer\, dass kürzlich erschienene Hits wie unter anderem „Zukunft aus Gold“ und „Life Balance“ in den Koffer gestopft werden\, um die Fans 2025 mit der ersten Hallen-Tournee seit 2022 zu beglücken.
URL:https://www.coldlife-entertainment.com/event/dame-bremen/
LOCATION:Modernes\, Neustadtswall 28\, Bremen\, 28199\, Germany
ATTACH;FMTTYPE=image/jpeg:https://www.coldlife-entertainment.com/wp-content/uploads/2024/10/DAME-Pressebild-02-©-Philip-Pesic-scaled.jpg
ORGANIZER;CN="Cold Life Booking GmbH":MAILTO:info@coldlife-booking.com
END:VEVENT
BEGIN:VEVENT
DTSTART;TZID=Europe/Berlin:20251023T200000
DTEND;TZID=Europe/Berlin:20251023T233000
DTSTAMP:20260421T105616
CREATED:20241010T042015Z
LAST-MODIFIED:20241010T042021Z
UID:2859-1761249600-1761262200@www.coldlife-entertainment.com
SUMMARY:DAME
DESCRIPTION:Nach dem Erfolg von „Allzeit Bereit“\, der Fortsetzung seines WoW-Evergreens „12 Millionen“\, bestätigt DAME nun für 2025 die erste Hallen-Tournee seit drei Jahren! \nSeit nun über einer Dekade begeistert DAME seine treue Anhängerschaft. Egal\, ob es darum geht\, mit tiefer Stimme über deftige Beats zu brettern oder Ohrwürmer aufs Blatt zu zaubern\, die einen wochenlang nicht mehr in Ruhe lassen. Etliche Top-Ten-Alben\, ausverkaufte Tourneen und rekordverdächtige Zahlen sind nur ein kleiner Auszug der bisherigen Karriere des Begründers deutschsprachiger Gaming-Musik. \nLetzteres wurde kürzlich mit „Allzeit Bereit“\, der Fortsetzung seines WoW-Evergreens „12 Millionen“\, abermals gekonnt unter Beweis gestellt. So generierte DAMEüber Nacht mehr als jeweils 100.000 Aufrufe sowohl auf Spotify als auch auf YouTube\, wo er sich ohne große Anstrengung Platz vier der deutschen Trends sichern konnte. \nNach wohlverdienter Auszeit und Schaffenspause\, mit Ausnahme einer Handvoll ausgewählter Open-Air-Konzerte\, ist die Freude umso größer\, dass kürzlich erschienene Hits wie unter anderem „Zukunft aus Gold“ und „Life Balance“ in den Koffer gestopft werden\, um die Fans 2025 mit der ersten Hallen-Tournee seit 2022 zu beglücken.
URL:https://www.coldlife-entertainment.com/event/dame-hamburg/
LOCATION:Grosse Freiheit 36\, Große Freiheit 36\, Hamburg\, 22767\, Deutschland
ATTACH;FMTTYPE=image/jpeg:https://www.coldlife-entertainment.com/wp-content/uploads/2024/10/DAME-Pressebild-01-©-Philip-Pesic-scaled.jpg
ORGANIZER;CN="Cold Life Booking GmbH":MAILTO:info@coldlife-booking.com
END:VEVENT
BEGIN:VEVENT
DTSTART;TZID=Europe/Berlin:20251024T200000
DTEND;TZID=Europe/Berlin:20251024T233000
DTSTAMP:20260421T105616
CREATED:20241010T042111Z
LAST-MODIFIED:20241010T042121Z
UID:2861-1761336000-1761348600@www.coldlife-entertainment.com
SUMMARY:DAME
DESCRIPTION:Nach dem Erfolg von „Allzeit Bereit“\, der Fortsetzung seines WoW-Evergreens „12 Millionen“\, bestätigt DAME nun für 2025 die erste Hallen-Tournee seit drei Jahren! \nSeit nun über einer Dekade begeistert DAME seine treue Anhängerschaft. Egal\, ob es darum geht\, mit tiefer Stimme über deftige Beats zu brettern oder Ohrwürmer aufs Blatt zu zaubern\, die einen wochenlang nicht mehr in Ruhe lassen. Etliche Top-Ten-Alben\, ausverkaufte Tourneen und rekordverdächtige Zahlen sind nur ein kleiner Auszug der bisherigen Karriere des Begründers deutschsprachiger Gaming-Musik. \nLetzteres wurde kürzlich mit „Allzeit Bereit“\, der Fortsetzung seines WoW-Evergreens „12 Millionen“\, abermals gekonnt unter Beweis gestellt. So generierte DAMEüber Nacht mehr als jeweils 100.000 Aufrufe sowohl auf Spotify als auch auf YouTube\, wo er sich ohne große Anstrengung Platz vier der deutschen Trends sichern konnte. \nNach wohlverdienter Auszeit und Schaffenspause\, mit Ausnahme einer Handvoll ausgewählter Open-Air-Konzerte\, ist die Freude umso größer\, dass kürzlich erschienene Hits wie unter anderem „Zukunft aus Gold“ und „Life Balance“ in den Koffer gestopft werden\, um die Fans 2025 mit der ersten Hallen-Tournee seit 2022 zu beglücken.
URL:https://www.coldlife-entertainment.com/event/dame-oberhausen/
LOCATION:Turbinenhalle\, Im Lipperfeld 23\, Oberhausen\, 46047\, Deutschland
ATTACH;FMTTYPE=image/jpeg:https://www.coldlife-entertainment.com/wp-content/uploads/2024/10/DAME-Pressebild-02-©-Philip-Pesic-scaled.jpg
ORGANIZER;CN="Cold Life Booking GmbH":MAILTO:info@coldlife-booking.com
END:VEVENT
BEGIN:VEVENT
DTSTART;TZID=Europe/Berlin:20251025T200000
DTEND;TZID=Europe/Berlin:20251025T233000
DTSTAMP:20260421T105616
CREATED:20241010T042213Z
LAST-MODIFIED:20241010T042219Z
UID:2863-1761422400-1761435000@www.coldlife-entertainment.com
SUMMARY:DAME
DESCRIPTION:Nach dem Erfolg von „Allzeit Bereit“\, der Fortsetzung seines WoW-Evergreens „12 Millionen“\, bestätigt DAME nun für 2025 die erste Hallen-Tournee seit drei Jahren! \nSeit nun über einer Dekade begeistert DAME seine treue Anhängerschaft. Egal\, ob es darum geht\, mit tiefer Stimme über deftige Beats zu brettern oder Ohrwürmer aufs Blatt zu zaubern\, die einen wochenlang nicht mehr in Ruhe lassen. Etliche Top-Ten-Alben\, ausverkaufte Tourneen und rekordverdächtige Zahlen sind nur ein kleiner Auszug der bisherigen Karriere des Begründers deutschsprachiger Gaming-Musik. \nLetzteres wurde kürzlich mit „Allzeit Bereit“\, der Fortsetzung seines WoW-Evergreens „12 Millionen“\, abermals gekonnt unter Beweis gestellt. So generierte DAMEüber Nacht mehr als jeweils 100.000 Aufrufe sowohl auf Spotify als auch auf YouTube\, wo er sich ohne große Anstrengung Platz vier der deutschen Trends sichern konnte. \nNach wohlverdienter Auszeit und Schaffenspause\, mit Ausnahme einer Handvoll ausgewählter Open-Air-Konzerte\, ist die Freude umso größer\, dass kürzlich erschienene Hits wie unter anderem „Zukunft aus Gold“ und „Life Balance“ in den Koffer gestopft werden\, um die Fans 2025 mit der ersten Hallen-Tournee seit 2022 zu beglücken.
URL:https://www.coldlife-entertainment.com/event/dame-muenchen/
LOCATION:Backstage\, Reitknechtstraße 6\, München\, 80639
ATTACH;FMTTYPE=image/jpeg:https://www.coldlife-entertainment.com/wp-content/uploads/2024/10/DAME-Pressebild-01-©-Philip-Pesic-scaled.jpg
ORGANIZER;CN="Cold Life Booking GmbH":MAILTO:info@coldlife-booking.com
END:VEVENT
BEGIN:VEVENT
DTSTART;TZID=Europe/Berlin:20251027T190000
DTEND;TZID=Europe/Berlin:20251027T233000
DTSTAMP:20260421T105616
CREATED:20241010T042355Z
LAST-MODIFIED:20241010T042401Z
UID:2865-1761591600-1761607800@www.coldlife-entertainment.com
SUMMARY:DAME
DESCRIPTION:Nach dem Erfolg von „Allzeit Bereit“\, der Fortsetzung seines WoW-Evergreens „12 Millionen“\, bestätigt DAME nun für 2025 die erste Hallen-Tournee seit drei Jahren! \nSeit nun über einer Dekade begeistert DAME seine treue Anhängerschaft. Egal\, ob es darum geht\, mit tiefer Stimme über deftige Beats zu brettern oder Ohrwürmer aufs Blatt zu zaubern\, die einen wochenlang nicht mehr in Ruhe lassen. Etliche Top-Ten-Alben\, ausverkaufte Tourneen und rekordverdächtige Zahlen sind nur ein kleiner Auszug der bisherigen Karriere des Begründers deutschsprachiger Gaming-Musik. \nLetzteres wurde kürzlich mit „Allzeit Bereit“\, der Fortsetzung seines WoW-Evergreens „12 Millionen“\, abermals gekonnt unter Beweis gestellt. So generierte DAMEüber Nacht mehr als jeweils 100.000 Aufrufe sowohl auf Spotify als auch auf YouTube\, wo er sich ohne große Anstrengung Platz vier der deutschen Trends sichern konnte. \nNach wohlverdienter Auszeit und Schaffenspause\, mit Ausnahme einer Handvoll ausgewählter Open-Air-Konzerte\, ist die Freude umso größer\, dass kürzlich erschienene Hits wie unter anderem „Zukunft aus Gold“ und „Life Balance“ in den Koffer gestopft werden\, um die Fans 2025 mit der ersten Hallen-Tournee seit 2022 zu beglücken.
URL:https://www.coldlife-entertainment.com/event/dame-at-wien/
LOCATION:Arena\, Baumgasse 80\, Wien\, 1030\, Austria
ATTACH;FMTTYPE=image/jpeg:https://www.coldlife-entertainment.com/wp-content/uploads/2024/10/DAME-Pressebild-02-©-Philip-Pesic-scaled.jpg
ORGANIZER;CN="Cold Life Booking GmbH":MAILTO:info@coldlife-booking.com
END:VEVENT
END:VCALENDAR