BEGIN:VCALENDAR
VERSION:2.0
PRODID:-//Cold Life Entertainment - ECPv6.15.20//NONSGML v1.0//EN
CALSCALE:GREGORIAN
METHOD:PUBLISH
X-ORIGINAL-URL:https://www.coldlife-entertainment.com
X-WR-CALDESC:Veranstaltungen für Cold Life Entertainment
REFRESH-INTERVAL;VALUE=DURATION:PT1H
X-Robots-Tag:noindex
X-PUBLISHED-TTL:PT1H
BEGIN:VTIMEZONE
TZID:Europe/Berlin
BEGIN:DAYLIGHT
TZOFFSETFROM:+0100
TZOFFSETTO:+0200
TZNAME:CEST
DTSTART:20240331T010000
END:DAYLIGHT
BEGIN:STANDARD
TZOFFSETFROM:+0200
TZOFFSETTO:+0100
TZNAME:CET
DTSTART:20241027T010000
END:STANDARD
BEGIN:DAYLIGHT
TZOFFSETFROM:+0100
TZOFFSETTO:+0200
TZNAME:CEST
DTSTART:20250330T010000
END:DAYLIGHT
BEGIN:STANDARD
TZOFFSETFROM:+0200
TZOFFSETTO:+0100
TZNAME:CET
DTSTART:20251026T010000
END:STANDARD
BEGIN:DAYLIGHT
TZOFFSETFROM:+0100
TZOFFSETTO:+0200
TZNAME:CEST
DTSTART:20260329T010000
END:DAYLIGHT
BEGIN:STANDARD
TZOFFSETFROM:+0200
TZOFFSETTO:+0100
TZNAME:CET
DTSTART:20261025T010000
END:STANDARD
END:VTIMEZONE
BEGIN:VEVENT
DTSTART;TZID=Europe/Berlin:20250910T190000
DTEND;TZID=Europe/Berlin:20250910T233000
DTSTAMP:20260421T161534
CREATED:20241009T112153Z
LAST-MODIFIED:20241009T112201Z
UID:2842-1757530800-1757547000@www.coldlife-entertainment.com
SUMMARY:DAME
DESCRIPTION:Nach dem Erfolg von „Allzeit Bereit“\, der Fortsetzung seines WoW-Evergreens „12 Millionen“\, bestätigt DAME nun für 2025 die erste Hallen-Tournee seit drei Jahren! \nSeit nun über einer Dekade begeistert DAME seine treue Anhängerschaft. Egal\, ob es darum geht\, mit tiefer Stimme über deftige Beats zu brettern oder Ohrwürmer aufs Blatt zu zaubern\, die einen wochenlang nicht mehr in Ruhe lassen. Etliche Top-Ten-Alben\, ausverkaufte Tourneen und rekordverdächtige Zahlen sind nur ein kleiner Auszug der bisherigen Karriere des Begründers deutschsprachiger Gaming-Musik. \nLetzteres wurde kürzlich mit „Allzeit Bereit“\, der Fortsetzung seines WoW-Evergreens „12 Millionen“\, abermals gekonnt unter Beweis gestellt. So generierte DAMEüber Nacht mehr als jeweils 100.000 Aufrufe sowohl auf Spotify als auch auf YouTube\, wo er sich ohne große Anstrengung Platz vier der deutschen Trends sichern konnte. \nNach wohlverdienter Auszeit und Schaffenspause\, mit Ausnahme einer Handvoll ausgewählter Open-Air-Konzerte\, ist die Freude umso größer\, dass kürzlich erschienene Hits wie unter anderem „Zukunft aus Gold“ und „Life Balance“ in den Koffer gestopft werden\, um die Fans 2025 mit der ersten Hallen-Tournee seit 2022 zu beglücken.
URL:https://www.coldlife-entertainment.com/event/dame-at-graz/
LOCATION:Orpheum\, Orpheumgasse 8\, 8020\, Austria
ATTACH;FMTTYPE=image/jpeg:https://www.coldlife-entertainment.com/wp-content/uploads/2024/10/DAME-Pressebild-01-©-Philip-Pesic-scaled.jpg
ORGANIZER;CN="Cold Life Booking GmbH":MAILTO:info@coldlife-booking.com
END:VEVENT
BEGIN:VEVENT
DTSTART;TZID=Europe/Berlin:20250911T200000
DTEND;TZID=Europe/Berlin:20250911T233000
DTSTAMP:20260421T161534
CREATED:20241009T112400Z
LAST-MODIFIED:20241009T112435Z
UID:2845-1757620800-1757633400@www.coldlife-entertainment.com
SUMMARY:DAME
DESCRIPTION:Nach dem Erfolg von „Allzeit Bereit“\, der Fortsetzung seines WoW-Evergreens „12 Millionen“\, bestätigt DAME nun für 2025 die erste Hallen-Tournee seit drei Jahren! \nSeit nun über einer Dekade begeistert DAME seine treue Anhängerschaft. Egal\, ob es darum geht\, mit tiefer Stimme über deftige Beats zu brettern oder Ohrwürmer aufs Blatt zu zaubern\, die einen wochenlang nicht mehr in Ruhe lassen. Etliche Top-Ten-Alben\, ausverkaufte Tourneen und rekordverdächtige Zahlen sind nur ein kleiner Auszug der bisherigen Karriere des Begründers deutschsprachiger Gaming-Musik. \nLetzteres wurde kürzlich mit „Allzeit Bereit“\, der Fortsetzung seines WoW-Evergreens „12 Millionen“\, abermals gekonnt unter Beweis gestellt. So generierte DAMEüber Nacht mehr als jeweils 100.000 Aufrufe sowohl auf Spotify als auch auf YouTube\, wo er sich ohne große Anstrengung Platz vier der deutschen Trends sichern konnte. \nNach wohlverdienter Auszeit und Schaffenspause\, mit Ausnahme einer Handvoll ausgewählter Open-Air-Konzerte\, ist die Freude umso größer\, dass kürzlich erschienene Hits wie unter anderem „Zukunft aus Gold“ und „Life Balance“ in den Koffer gestopft werden\, um die Fans 2025 mit der ersten Hallen-Tournee seit 2022 zu beglücken.
URL:https://www.coldlife-entertainment.com/event/dame-hannover/
LOCATION:Pavillon\, Lister Meile 4\, Hannover\, 30161\, Germany
ATTACH;FMTTYPE=image/jpeg:https://www.coldlife-entertainment.com/wp-content/uploads/2024/10/DAME-Pressebild-02-©-Philip-Pesic-scaled.jpg
ORGANIZER;CN="Cold Life Booking GmbH":MAILTO:info@coldlife-booking.com
END:VEVENT
BEGIN:VEVENT
DTSTART;TZID=Europe/Berlin:20250912T200000
DTEND;TZID=Europe/Berlin:20250912T233000
DTSTAMP:20260421T161534
CREATED:20241010T041454Z
LAST-MODIFIED:20241010T041503Z
UID:2848-1757707200-1757719800@www.coldlife-entertainment.com
SUMMARY:DAME
DESCRIPTION:Nach dem Erfolg von „Allzeit Bereit“\, der Fortsetzung seines WoW-Evergreens „12 Millionen“\, bestätigt DAME nun für 2025 die erste Hallen-Tournee seit drei Jahren! \nSeit nun über einer Dekade begeistert DAME seine treue Anhängerschaft. Egal\, ob es darum geht\, mit tiefer Stimme über deftige Beats zu brettern oder Ohrwürmer aufs Blatt zu zaubern\, die einen wochenlang nicht mehr in Ruhe lassen. Etliche Top-Ten-Alben\, ausverkaufte Tourneen und rekordverdächtige Zahlen sind nur ein kleiner Auszug der bisherigen Karriere des Begründers deutschsprachiger Gaming-Musik. \nLetzteres wurde kürzlich mit „Allzeit Bereit“\, der Fortsetzung seines WoW-Evergreens „12 Millionen“\, abermals gekonnt unter Beweis gestellt. So generierte DAMEüber Nacht mehr als jeweils 100.000 Aufrufe sowohl auf Spotify als auch auf YouTube\, wo er sich ohne große Anstrengung Platz vier der deutschen Trends sichern konnte. \nNach wohlverdienter Auszeit und Schaffenspause\, mit Ausnahme einer Handvoll ausgewählter Open-Air-Konzerte\, ist die Freude umso größer\, dass kürzlich erschienene Hits wie unter anderem „Zukunft aus Gold“ und „Life Balance“ in den Koffer gestopft werden\, um die Fans 2025 mit der ersten Hallen-Tournee seit 2022 zu beglücken.
URL:https://www.coldlife-entertainment.com/event/dame-stuttgart/
LOCATION:LKA Longhorn\, Heiligenwiesen 6\, Stuttgart\, 70327\, Germany
ATTACH;FMTTYPE=image/jpeg:https://www.coldlife-entertainment.com/wp-content/uploads/2024/10/DAME-Pressebild-01-©-Philip-Pesic-scaled.jpg
ORGANIZER;CN="Cold Life Booking GmbH":MAILTO:info@coldlife-booking.com
END:VEVENT
BEGIN:VEVENT
DTSTART;TZID=Europe/Berlin:20250913T200000
DTEND;TZID=Europe/Berlin:20250913T233000
DTSTAMP:20260421T161534
CREATED:20241010T041552Z
LAST-MODIFIED:20241010T041558Z
UID:2851-1757793600-1757806200@www.coldlife-entertainment.com
SUMMARY:DAME
DESCRIPTION:Nach dem Erfolg von „Allzeit Bereit“\, der Fortsetzung seines WoW-Evergreens „12 Millionen“\, bestätigt DAME nun für 2025 die erste Hallen-Tournee seit drei Jahren! \nSeit nun über einer Dekade begeistert DAME seine treue Anhängerschaft. Egal\, ob es darum geht\, mit tiefer Stimme über deftige Beats zu brettern oder Ohrwürmer aufs Blatt zu zaubern\, die einen wochenlang nicht mehr in Ruhe lassen. Etliche Top-Ten-Alben\, ausverkaufte Tourneen und rekordverdächtige Zahlen sind nur ein kleiner Auszug der bisherigen Karriere des Begründers deutschsprachiger Gaming-Musik. \nLetzteres wurde kürzlich mit „Allzeit Bereit“\, der Fortsetzung seines WoW-Evergreens „12 Millionen“\, abermals gekonnt unter Beweis gestellt. So generierte DAMEüber Nacht mehr als jeweils 100.000 Aufrufe sowohl auf Spotify als auch auf YouTube\, wo er sich ohne große Anstrengung Platz vier der deutschen Trends sichern konnte. \nNach wohlverdienter Auszeit und Schaffenspause\, mit Ausnahme einer Handvoll ausgewählter Open-Air-Konzerte\, ist die Freude umso größer\, dass kürzlich erschienene Hits wie unter anderem „Zukunft aus Gold“ und „Life Balance“ in den Koffer gestopft werden\, um die Fans 2025 mit der ersten Hallen-Tournee seit 2022 zu beglücken.
URL:https://www.coldlife-entertainment.com/event/dame-leipzig/
LOCATION:Felsenkeller\, Karl-Heine-Straße 32\, Leipzig\, 04229\, Deutschland
ATTACH;FMTTYPE=image/jpeg:https://www.coldlife-entertainment.com/wp-content/uploads/2024/10/DAME-Pressebild-02-©-Philip-Pesic-scaled.jpg
ORGANIZER;CN="Cold Life Booking GmbH":MAILTO:info@coldlife-booking.com
END:VEVENT
BEGIN:VEVENT
DTSTART;TZID=Europe/Berlin:20250914T200000
DTEND;TZID=Europe/Berlin:20250914T233000
DTSTAMP:20260421T161534
CREATED:20241010T041647Z
LAST-MODIFIED:20241010T041652Z
UID:2853-1757880000-1757892600@www.coldlife-entertainment.com
SUMMARY:DAME
DESCRIPTION:Nach dem Erfolg von „Allzeit Bereit“\, der Fortsetzung seines WoW-Evergreens „12 Millionen“\, bestätigt DAME nun für 2025 die erste Hallen-Tournee seit drei Jahren! \nSeit nun über einer Dekade begeistert DAME seine treue Anhängerschaft. Egal\, ob es darum geht\, mit tiefer Stimme über deftige Beats zu brettern oder Ohrwürmer aufs Blatt zu zaubern\, die einen wochenlang nicht mehr in Ruhe lassen. Etliche Top-Ten-Alben\, ausverkaufte Tourneen und rekordverdächtige Zahlen sind nur ein kleiner Auszug der bisherigen Karriere des Begründers deutschsprachiger Gaming-Musik. \nLetzteres wurde kürzlich mit „Allzeit Bereit“\, der Fortsetzung seines WoW-Evergreens „12 Millionen“\, abermals gekonnt unter Beweis gestellt. So generierte DAMEüber Nacht mehr als jeweils 100.000 Aufrufe sowohl auf Spotify als auch auf YouTube\, wo er sich ohne große Anstrengung Platz vier der deutschen Trends sichern konnte. \nNach wohlverdienter Auszeit und Schaffenspause\, mit Ausnahme einer Handvoll ausgewählter Open-Air-Konzerte\, ist die Freude umso größer\, dass kürzlich erschienene Hits wie unter anderem „Zukunft aus Gold“ und „Life Balance“ in den Koffer gestopft werden\, um die Fans 2025 mit der ersten Hallen-Tournee seit 2022 zu beglücken.
URL:https://www.coldlife-entertainment.com/event/dame-berlin/
LOCATION:Huxleys Neue Welt\, Hasenheide 107-113\, Berlin\, 10967\, Deutschland
ATTACH;FMTTYPE=image/jpeg:https://www.coldlife-entertainment.com/wp-content/uploads/2024/10/DAME-Pressebild-01-©-Philip-Pesic-scaled.jpg
ORGANIZER;CN="Cold Life Booking GmbH":MAILTO:info@coldlife-booking.com
END:VEVENT
BEGIN:VEVENT
DTSTART;TZID=Europe/Berlin:20250925T200000
DTEND;TZID=Europe/Berlin:20250925T233000
DTSTAMP:20260421T161534
CREATED:20250430T070013Z
LAST-MODIFIED:20250519T055734Z
UID:2998-1758830400-1758843000@www.coldlife-entertainment.com
SUMMARY:Lauren Spencer Smith
DESCRIPTION:Die Multi-Platin prämierte Sängerin Lauren Spencer Smith kommt mit ihrem neuen Album „The Art Of Being A Mess“ auf gleichnamige Tour und spielt am 25. September 2025 in Oberhausen! \nLauren Spencer Smith verpackt ihre grenzenlosen Emotionen in berührende Songs. Die 21-Jährige\, die sich nie davor scheute\, ihre extremen Gefühlswelten in ihren Liedern auszudrücken\, zählt mit ihrer einzigartigen Stimme aktuell zu den aufstrebendsten Popstars Kanadas und hat längst den Status einer Sensation inne. Ihr mehrfach Platin-ausgezeichneter Song „Fingers Crossed“ ging 2022 auf TikTok viral und brachte ihr den internationalen Durchbruch\, den sie mit ihrem Debütalbum „Mirror“ (2023) konsolidierte. Das Album zählt mittlerweile über 1\,2 Milliarden Streams auf Spotify und feierte mit dem Platin-prämierten Track „Flowers“ sowie dem Fan-Favoriten „That Part“ zwei weitere Hits\, die Lauren Spencer Smith auf ihrer 42-tägigen „The Mirror Tour“ bereits auf der ganzen Welt präsentierte. Auch die Presse ist von ihrer Musik begeistert: Billboard nannte sie als eine der „21 under 21“\, während Medien wie das People Magazine\, The Guardian und DORK sie feierten\, und Stereogum sie als „neue Lieblings-Breakup-Balladen-Sängerin der Gen Z“ bezeichnete. Am 27. Juni 2025 erscheint ihr zweites Album „The Art of Being a Mess“\, das sie im Frühherbst auf einer Europa-Tournee live präsentieren wird. Auf der „The Art Of Being A Mess Tour“ kommt Lauren Spencer Smith im September u.a. nach Oberhausen. \nLauren Spencer Smith wurde 2003 in Portsmouth\, England geboren\, wuchs jedoch in Port Alberni auf Vancouver Island in Kanada auf. Früh von der Musik begeistert\, konnte sie nach eigener Aussage aufgrund der Abgeschiedenheit weder Konzerte besuchen noch einem Musical-Theater beitreten. Stattdessen produzierte sie YouTube-Cover-Videos und nahm an American Idol teil\, wo sie in den Top 20 landete. Trotz ihres Ausscheidens bei der Show arbeitete sie weiter hart an ihrer Musik und schaffte es als Independent Artist nach dem Release der Debüt-EP „Mixed Emotions“ mehrfach viral zu gehen. Zunächst erreichte die Single „Back to Friends“ mit reduziertem Singer-Songwriter-Sound im Jahr 2021 mehrere Millionen Aufrufe auf TikTok\, bevor „Fingers Crossed“ zu einem noch größeren viralen Erfolg wurde und ihre Karriere 2022 mit einem Plattenvertrag bei Island / Republic Records auf ein neues Level hievte. 2023 erschien ihr Debütalbum „Mirror“\, das auf Platz 49 in den Billboard 200 sowie auf Rang 11 in Großbritannien einstieg. Nach drei Weihnachts-Songs im Jahr 2023 und zwei Singles 2024 leitete Lauren Spencer Smith Anfang 2025 ein neues Kapitel ein. Die Singles „Pray“ und „If Karma Doesn’t Get You (I Will)“ deuten mit stadiontauglichem Pop-Sound und Spencer Smiths kraftvoller Stimme auf den anstehenden Release ihres zweiten Albums „The Art of Being a Mess“ und ihre musikalische Entwicklung.
URL:https://www.coldlife-entertainment.com/event/lauren-spencer-smith/
LOCATION:Turbinenhalle\, Im Lipperfeld 23\, Oberhausen\, 46047\, Deutschland
ATTACH;FMTTYPE=image/jpeg:https://www.coldlife-entertainment.com/wp-content/uploads/2025/05/Lauren-Spencer-Smith-Pressebild-01-scaled.jpg
ORGANIZER;CN="Cold Life Productions UG (haftungsbeschr%C3%A4nkt)":MAILTO:info@coldlife-productions.com
END:VEVENT
END:VCALENDAR