BEGIN:VCALENDAR
VERSION:2.0
PRODID:-//Cold Life Entertainment - ECPv6.15.20//NONSGML v1.0//EN
CALSCALE:GREGORIAN
METHOD:PUBLISH
X-ORIGINAL-URL:https://www.coldlife-entertainment.com
X-WR-CALDESC:Veranstaltungen für Cold Life Entertainment
REFRESH-INTERVAL;VALUE=DURATION:PT1H
X-Robots-Tag:noindex
X-PUBLISHED-TTL:PT1H
BEGIN:VTIMEZONE
TZID:Europe/Berlin
BEGIN:DAYLIGHT
TZOFFSETFROM:+0100
TZOFFSETTO:+0200
TZNAME:CEST
DTSTART:20240331T010000
END:DAYLIGHT
BEGIN:STANDARD
TZOFFSETFROM:+0200
TZOFFSETTO:+0100
TZNAME:CET
DTSTART:20241027T010000
END:STANDARD
BEGIN:DAYLIGHT
TZOFFSETFROM:+0100
TZOFFSETTO:+0200
TZNAME:CEST
DTSTART:20250330T010000
END:DAYLIGHT
BEGIN:STANDARD
TZOFFSETFROM:+0200
TZOFFSETTO:+0100
TZNAME:CET
DTSTART:20251026T010000
END:STANDARD
BEGIN:DAYLIGHT
TZOFFSETFROM:+0100
TZOFFSETTO:+0200
TZNAME:CEST
DTSTART:20260329T010000
END:DAYLIGHT
BEGIN:STANDARD
TZOFFSETFROM:+0200
TZOFFSETTO:+0100
TZNAME:CET
DTSTART:20261025T010000
END:STANDARD
END:VTIMEZONE
BEGIN:VEVENT
DTSTART;TZID=Europe/Berlin:20250616T190000
DTEND;TZID=Europe/Berlin:20250616T220000
DTSTAMP:20260425T133753
CREATED:20250325T121336Z
LAST-MODIFIED:20250325T121349Z
UID:2968-1750100400-1750111200@www.coldlife-entertainment.com
SUMMARY:Dayseeker
DESCRIPTION:PLUS SPECIAL GUESTS:\nNORMANDIE & SPERLING \nNach ihrer restlos ausverkauften Tour im Spätherbst 2024 kehren Dayseeker diesen Sommer zurück nach Deutschland und spielen am 16. Juni 2025 gemeinsam mit ihren Special Guests Normandie und Sperling eine Open-Air-Show in Dortmund! \nDayseeker gehören zu den erfolgreichsten Post-Hardcore-Bands der USA. Ihr in Pop-Musik getränkter Sound zwischen atmosphärischem Hardcore\, R&B-Einflüssen und modernem Alternative-Rock resoniert mit einer weltweiten Fanbase. Getragen vom einzigartigen Gesang von Rory Rodriguez thematisieren Dayseeker auf ihren bisherigen fünf Alben emotionale Erfahrungen und Traumata aus ihren eigenen Leben. Nach den ersten drei Alben fand die Band auf „Sleeptalk“ gänzlich zu ihrem Sound und feierte mit Platz drei der Heatseekers Charts ihren bisher größten Chart-Erfolg. Das 2019 veröffentlichte Album zählt mittlerweile über 140 Millionen Spotify-Streams\, wovon der Titelsong mit 69 Millionen Streams neben „Burial Plot“ den größten Anteil hat. Auch „Dark Sun“ knüpft 2022 mit den Tracks „Neon Grave“ sowie „Without Me“ an diesen Erfolg an und zählt mittlerweile über 122 Millionen Streams auf Spotify. \nNach einer restlos ausverkauften Tour im Spätherbst 2024 kehren Dayseeker im Juni dieses Jahres zurück nach Europa und spielen hierzulande Konzerte in Dortmund\, Dresden sowie Frankfurt am Main. Bei der Open-Air-Show im Dortmunder JunkYard werden zudem Normandie aus Schweden und Sperling aus Deutschland als Special Guests auftreten. \nDayseeker gründeten sich 2012 im Orange County\, Kalifornien. 2013 veröffentlichten sie ihr Debütalbum „What It Means To Be Defeated“ via InVogue Records. 2015 folgte der zweite Longplayer „Origin“\, der auf Platz 20 der US-amerikanischen Heatseekers Charts einstieg und musikalisch wie das Debüt noch stark vom Metalcore geprägt war. Daraufhin signte die Band bei Spinefarm Records und veröffentlichte 2017 ihr drittes Album „Dreaming Is Sinking /// Waking Is Rising“\, das die musikalische Weiterentwicklung der Band bereits andeutete. \n2019 folgte „Sleeptalk“ und ermöglichte Dayseeker mit ausgefeilten R&B- und Pop-Einflüssen den internationalen Durchbruch. Nach dem ebenfalls erfolgreichen Album „Dark Sun“ (2022)\, das den atmosphärischen Post-Hardcore-Sound von Dayseeker weiter verfeinerte\, erschien im April 2024 „Replica“ als erstes Acoustic-Album der Band sowie eine gemeinsame Single mit Rain City Drive („Medicate Me“). Mit Features von Lucas Woodland von Holding Absence auf „Starving To Be Empty – Acoustic” sowie Beartooth-Frontmann Caleb Shomo bei „Burial Plot – Acoustic” erklingen die beiden „Sleeptalk“-Tracks darauf in gänzlich neuem Klangbild. Anfang März gaben Dayseeker bekannt\, dass sie die Aufnahmen für ihr sechstes Studioalbum abgeschlossen haben. Dabei arbeitete die Band erneut mit dem Produzenten Dan Braunstein. Wann es die erste Single der neuen Platte zu hören gibt\, bleibt mit großer Spannung zu erwarten.
URL:https://www.coldlife-entertainment.com/event/dayseeker-2025/
LOCATION:JunkYard Open Air\, Schlägelstraße 57\, Dortmund\, 44145\, Deutschland
ATTACH;FMTTYPE=image/jpeg:https://www.coldlife-entertainment.com/wp-content/uploads/2025/03/Dayseeker-Pressebild-01-@-Alex-Bemis-scaled.jpg
ORGANIZER;CN="Cold Life Productions UG (haftungsbeschr%C3%A4nkt)":MAILTO:info@coldlife-productions.com
END:VEVENT
END:VCALENDAR