BEGIN:VCALENDAR
VERSION:2.0
PRODID:-//Cold Life Entertainment - ECPv6.15.20//NONSGML v1.0//EN
CALSCALE:GREGORIAN
METHOD:PUBLISH
X-WR-CALNAME:Cold Life Entertainment
X-ORIGINAL-URL:https://www.coldlife-entertainment.com
X-WR-CALDESC:Veranstaltungen für Cold Life Entertainment
REFRESH-INTERVAL;VALUE=DURATION:PT1H
X-Robots-Tag:noindex
X-PUBLISHED-TTL:PT1H
BEGIN:VTIMEZONE
TZID:Europe/Berlin
BEGIN:DAYLIGHT
TZOFFSETFROM:+0100
TZOFFSETTO:+0200
TZNAME:CEST
DTSTART:20250330T010000
END:DAYLIGHT
BEGIN:STANDARD
TZOFFSETFROM:+0200
TZOFFSETTO:+0100
TZNAME:CET
DTSTART:20251026T010000
END:STANDARD
BEGIN:DAYLIGHT
TZOFFSETFROM:+0100
TZOFFSETTO:+0200
TZNAME:CEST
DTSTART:20260329T010000
END:DAYLIGHT
BEGIN:STANDARD
TZOFFSETFROM:+0200
TZOFFSETTO:+0100
TZNAME:CET
DTSTART:20261025T010000
END:STANDARD
BEGIN:DAYLIGHT
TZOFFSETFROM:+0100
TZOFFSETTO:+0200
TZNAME:CEST
DTSTART:20270328T010000
END:DAYLIGHT
BEGIN:STANDARD
TZOFFSETFROM:+0200
TZOFFSETTO:+0100
TZNAME:CET
DTSTART:20271031T010000
END:STANDARD
END:VTIMEZONE
BEGIN:VEVENT
DTSTART;TZID=Europe/Berlin:20260529T193000
DTEND;TZID=Europe/Berlin:20260529T233000
DTSTAMP:20260421T125729
CREATED:20250911T053055Z
LAST-MODIFIED:20251020T133423Z
UID:3275-1780083000-1780097400@www.coldlife-entertainment.com
SUMMARY:Mace
DESCRIPTION:Zum zehnjährigen Jubiläum seines Songs „Schubladendenken“ bestätigt Mace eine Handvoll ausgewählter Live-Shows für 2026\, um dieses Jubiläum gemeinsam mit seinen Fans zu feiern und verspricht einen Abend zum Zurückblicken\, Fühlen und Feiern! \n2016 hat alles begonnen: Mit Schubladendenken setzte Mace aus Salzburg ein erstes\, starkes Zeichen. Ein Song\, der von Anfang an mehr war als nur Musik – er war Haltung\, Aufbruch und das klare Nein zu Schubladen\, in die man gesteckt wird. Viele Menschen haben sich in dieser Botschaft wiedergefunden\, und genau das machte den Song zu einem Wendepunkt. \n2026 wird Schubladendenken nun zehn Jahre alt. Ein Jahrzehnt\, in dem Mace seinen eigenen Weg gegangen ist\, immer ehrlich\, immer authentisch. Dieses Jubiläum feiert er mit besonderen Live-Shows in Deutschland und Österreich. Konzerte\, die nicht nur ein Rückblick sind\, sondern auch ein Fest für alle\, die von Anfang an dabei waren – und für alle\, die noch dazukommen. \nDie Shows versprechen Nähe\, Energie und Emotionen. Es geht ums Zurückschauen\, ums Danken\, aber vor allem ums gemeinsame Erleben. Denn Schubladendenken ist nicht nur Maces Anfang – es ist bis heute ein Gefühl\, das verbindet.
URL:https://www.coldlife-entertainment.com/event/mace-hamburg-2026/
LOCATION:Hebebühne\, Barnerstraße 30 (Hinterhof)\, Hamburg\, 22765\, Germany
ATTACH;FMTTYPE=image/jpeg:https://www.coldlife-entertainment.com/wp-content/uploads/2025/09/Mace-Pressebild-01-©-Andreas-Woeckinger-scaled.jpg
ORGANIZER;CN="Cold Life Booking GmbH":MAILTO:info@coldlife-booking.com
END:VEVENT
END:VCALENDAR