BEGIN:VCALENDAR
VERSION:2.0
PRODID:-//Cold Life Entertainment - ECPv6.15.20//NONSGML v1.0//EN
CALSCALE:GREGORIAN
METHOD:PUBLISH
X-ORIGINAL-URL:https://www.coldlife-entertainment.com
X-WR-CALDESC:Veranstaltungen für Cold Life Entertainment
REFRESH-INTERVAL;VALUE=DURATION:PT1H
X-Robots-Tag:noindex
X-PUBLISHED-TTL:PT1H
BEGIN:VTIMEZONE
TZID:Europe/Berlin
BEGIN:DAYLIGHT
TZOFFSETFROM:+0100
TZOFFSETTO:+0200
TZNAME:CEST
DTSTART:20250330T010000
END:DAYLIGHT
BEGIN:STANDARD
TZOFFSETFROM:+0200
TZOFFSETTO:+0100
TZNAME:CET
DTSTART:20251026T010000
END:STANDARD
BEGIN:DAYLIGHT
TZOFFSETFROM:+0100
TZOFFSETTO:+0200
TZNAME:CEST
DTSTART:20260329T010000
END:DAYLIGHT
BEGIN:STANDARD
TZOFFSETFROM:+0200
TZOFFSETTO:+0100
TZNAME:CET
DTSTART:20261025T010000
END:STANDARD
BEGIN:DAYLIGHT
TZOFFSETFROM:+0100
TZOFFSETTO:+0200
TZNAME:CEST
DTSTART:20270328T010000
END:DAYLIGHT
BEGIN:STANDARD
TZOFFSETFROM:+0200
TZOFFSETTO:+0100
TZNAME:CET
DTSTART:20271031T010000
END:STANDARD
END:VTIMEZONE
BEGIN:VEVENT
DTSTART;TZID=Europe/Berlin:20260516T193000
DTEND;TZID=Europe/Berlin:20260516T233000
DTSTAMP:20260421T131902
CREATED:20250911T052519Z
LAST-MODIFIED:20250911T052535Z
UID:3270-1778959800-1778974200@www.coldlife-entertainment.com
SUMMARY:Mace
DESCRIPTION:Zum zehnjährigen Jubiläum seines Songs „Schubladendenken“ bestätigt Mace eine Handvoll ausgewählter Live-Shows für 2026\, um dieses Jubiläum gemeinsam mit seinen Fans zu feiern und verspricht einen Abend zum Zurückblicken\, Fühlen und Feiern! \n2016 hat alles begonnen: Mit Schubladendenken setzte Mace aus Salzburg ein erstes\, starkes Zeichen. Ein Song\, der von Anfang an mehr war als nur Musik – er war Haltung\, Aufbruch und das klare Nein zu Schubladen\, in die man gesteckt wird. Viele Menschen haben sich in dieser Botschaft wiedergefunden\, und genau das machte den Song zu einem Wendepunkt. \n2026 wird Schubladendenken nun zehn Jahre alt. Ein Jahrzehnt\, in dem Mace seinen eigenen Weg gegangen ist\, immer ehrlich\, immer authentisch. Dieses Jubiläum feiert er mit besonderen Live-Shows in Deutschland und Österreich. Konzerte\, die nicht nur ein Rückblick sind\, sondern auch ein Fest für alle\, die von Anfang an dabei waren – und für alle\, die noch dazukommen. \nDie Shows versprechen Nähe\, Energie und Emotionen. Es geht ums Zurückschauen\, ums Danken\, aber vor allem ums gemeinsame Erleben. Denn Schubladendenken ist nicht nur Maces Anfang – es ist bis heute ein Gefühl\, das verbindet.
URL:https://www.coldlife-entertainment.com/event/mace-koeln-2026/
LOCATION:Garagen\, Oskar-Jäger-Straße 179\, Köln\, 50825\, Germany
ATTACH;FMTTYPE=image/jpeg:https://www.coldlife-entertainment.com/wp-content/uploads/2025/09/Mace-Pressebild-02-©-Andreas-Woeckinger-scaled.jpg
ORGANIZER;CN="Cold Life Booking GmbH":MAILTO:info@coldlife-booking.com
END:VEVENT
BEGIN:VEVENT
DTSTART;TZID=Europe/Berlin:20260516T200000
DTEND;TZID=Europe/Berlin:20260516T233000
DTSTAMP:20260421T131902
CREATED:20250602T052106Z
LAST-MODIFIED:20250602T052112Z
UID:3064-1778961600-1778974200@www.coldlife-entertainment.com
SUMMARY:Bobby Vandamme
DESCRIPTION:Nach dem Erfolg seiner ersten Solo-Tournee mit zahlreichen hochverlegten und ausverkauften Shows kehrt Bobby Vandamme\, der „Govaneur“\, im Mai 2026 auf noch größere Bühnen zurück und verspricht eine noch eindrucksvollere und wildere Show! \nGerade einmal ein paar Wochen ist es her\, dass Bobby Vandamme seine Fans mit seiner ersten Solo-Tournee ins Staunen versetzte. Und erfolgreicher hätte sie wohl kaum laufen können. \nSchon bei der ersten Show avancierte die Live-Version von „El Capitano“ zum regelrechten Hit – live vor Ort mit etlichen Moshpits sowie gleichwohl in den sozialen Netzwerken. Bei insgesamt zehn\, zum allergrößten Teil hochverlegten und ausverkauften Shows in Deutschland\, Österreich und der Schweiz lieferte er eine Show ab\, die seinesgleichen sucht – und die Fans waren begeistert. Mit unangekündigten Auftritten von hochkarätigen Rap-Kollegen und -Freunden wie z.B. Farid Bang\, Milano oder Azet\, mit dem er noch während der Tour die gemeinsame Single „Buscape“ auskoppelte\, hielt er außerdem noch einige Überraschungen für seine Fans parat. \nKein Wunder also\, dass jeder nach Nachschlag ruft – und er wäre nicht der Gova\, wenn er nicht nochmal einen draufsetzen würde… \nUnd so kehrt er im Mai 2026 als „Der Govaneur“ auf noch größere Bühnen zurück und verspricht schon jetzt eine noch eindrucksvollere und noch wildere Show. Viel verraten wird noch nicht\, aber eines sei gewiss: Die Fans dürfen eine energiegeladene Show und neue Songs erwarten und werden einen unvergesslichen Abend voller Spaß\, Überraschungen und Gänsehaut-Momente erleben!
URL:https://www.coldlife-entertainment.com/event/bobby-vandamme-muenchen/
LOCATION:TonHalle\, Atelierstraße 24\, München\, 81671\, Deutschland
ATTACH;FMTTYPE=image/jpeg:https://www.coldlife-entertainment.com/wp-content/uploads/2025/06/Bobby-Vandamme-Pressebild-01.jpg
ORGANIZER;CN="Cold Life Booking GmbH":MAILTO:info@coldlife-booking.com
END:VEVENT
END:VCALENDAR