BEGIN:VCALENDAR
VERSION:2.0
PRODID:-//Cold Life Entertainment - ECPv6.15.20//NONSGML v1.0//EN
CALSCALE:GREGORIAN
METHOD:PUBLISH
X-WR-CALNAME:Cold Life Entertainment
X-ORIGINAL-URL:https://www.coldlife-entertainment.com
X-WR-CALDESC:Veranstaltungen für Cold Life Entertainment
REFRESH-INTERVAL;VALUE=DURATION:PT1H
X-Robots-Tag:noindex
X-PUBLISHED-TTL:PT1H
BEGIN:VTIMEZONE
TZID:Europe/Berlin
BEGIN:DAYLIGHT
TZOFFSETFROM:+0100
TZOFFSETTO:+0200
TZNAME:CEST
DTSTART:20250330T010000
END:DAYLIGHT
BEGIN:STANDARD
TZOFFSETFROM:+0200
TZOFFSETTO:+0100
TZNAME:CET
DTSTART:20251026T010000
END:STANDARD
BEGIN:DAYLIGHT
TZOFFSETFROM:+0100
TZOFFSETTO:+0200
TZNAME:CEST
DTSTART:20260329T010000
END:DAYLIGHT
BEGIN:STANDARD
TZOFFSETFROM:+0200
TZOFFSETTO:+0100
TZNAME:CET
DTSTART:20261025T010000
END:STANDARD
BEGIN:DAYLIGHT
TZOFFSETFROM:+0100
TZOFFSETTO:+0200
TZNAME:CEST
DTSTART:20270328T010000
END:DAYLIGHT
BEGIN:STANDARD
TZOFFSETFROM:+0200
TZOFFSETTO:+0100
TZNAME:CET
DTSTART:20271031T010000
END:STANDARD
END:VTIMEZONE
BEGIN:VEVENT
DTSTART;TZID=Europe/Berlin:20260509T200000
DTEND;TZID=Europe/Berlin:20260509T233000
DTSTAMP:20260421T131211
CREATED:20250804T070921Z
LAST-MODIFIED:20250804T070954Z
UID:3158-1778356800-1778369400@www.coldlife-entertainment.com
SUMMARY:Crystal F (Geburtstagskonzert)
DESCRIPTION:Crystal F lädt seine Fans ein\, gemeinsam mit ihm und etlichen Gästen und Support-Acts seinen Ehrentag zu feiern! \nDie Geburtstagskonzerte von Crystal F sind in den letzten drei Jahren zu einer Instanz geworden. Jedes Jahr pendeln Menschen aus ganz Deutschland nach Berlin\, um dort zusammen zu feiern. 2025 haben knapp 1.000 Besucher:innen das Metropol gefüllt und zu einem unvergesslichen Erlebnis für jeden gemacht. \nAm 09. Mai 2026 findet das nächste Konzert zum Ehrentag des Berliners statt – wieder im Metropol und mit einer großen Auswahl an Gästen und Support-Acts.
URL:https://www.coldlife-entertainment.com/event/crystal-f-geburtstagskonzert/
LOCATION:Metropol\, Nollendorfplatz 5\, Berlin\, 10777\, Germany
ATTACH;FMTTYPE=image/tiff:https://www.coldlife-entertainment.com/wp-content/uploads/2025/08/Crystal-F-Pressebild-01-©-Hauke-Gerlach.tif
ORGANIZER;CN="Cold Life Booking GmbH":MAILTO:info@coldlife-booking.com
END:VEVENT
BEGIN:VEVENT
DTSTART;TZID=Europe/Berlin:20260509T200000
DTEND;TZID=Europe/Berlin:20260509T233000
DTSTAMP:20260421T131211
CREATED:20250825T065606Z
LAST-MODIFIED:20250828T093914Z
UID:3249-1778356800-1778369400@www.coldlife-entertainment.com
SUMMARY:Caney030
DESCRIPTION:Der Berliner Rapper Caney030 zündet den Tourbo S und kündigt seine zweite Tournee an! \nNach dem riesigen Erfolg seiner ersten Tournee „Kleine Handys\, große Träume“ und seinem gefeierten Debüt-Album „Butterfly“ steht fest: Caney030 ist gekommen\, um zu bleiben. Jetzt kündigt der Kreuzberger Ausnahme-Rapper mit dem Tourbo S 2026 die nächste Stufe an – größer\, kompromissloser und mit jeder Menge neuer Musik im Gepäck. \nSeine erste Tournee war ein Meilenstein: Ausverkaufte Hallen\, ein organischer Hype\, der ohne große Promo entstand\, und Special Guests\, die sonst Festival-Line-ups füllen – darunter Pashanim\, Samra\, Kalim\, Eno\, Kolja Goldstein\, Hoodblaq\, Yuyu19\, Aymen\, Yavuz\, Apsilon\, Haze\, Finessim und viele mehr. Caney030 hat gezeigt\, dass er nicht nur Hits liefert\, sondern ein ganz eigenes Live-Erlebnis schafft\, das Herkunft\, Haltung und Hunger vereint. \nMit Songs wie „Nie Wieder“\, „Xalaz Xalaz“\, „Codein Cowboys“ oder „Dass Du Weißt“ hat sich der Zwei-Meter-Zaza innerhalb kürzester Zeit in die erste Reihe des Deutsch-Rap katapultiert – live bringt er dieselbe Energie auf die Bühne wie im Studio: roh\, echt und mitreißend. \nDer Tourbo S 2026 wird all das toppen: Neue Tracks\, ein frisches Show-Konzept und wieder hochkarätige Special Guests\, die jedes Konzert zu einem einmaligen Erlebnis machen. Fans können sich auf eine Show freuen\, die alles bisher Dagewesene übertrifft. Denn\, wenn Caney030 ruft\, brennen nicht nur die Handys.
URL:https://www.coldlife-entertainment.com/event/caney030-stuttgart/
LOCATION:Schräglage\, Hirschstraße 14\, Stuttgart\, 70173\, Germany
ATTACH;FMTTYPE=image/jpeg:https://www.coldlife-entertainment.com/wp-content/uploads/2025/08/Caney030-Pressebild-01-©-KHGT.jpg
ORGANIZER;CN="Cold Life Booking GmbH":MAILTO:info@coldlife-booking.com
END:VEVENT
END:VCALENDAR