BEGIN:VCALENDAR
VERSION:2.0
PRODID:-//Cold Life Entertainment - ECPv6.15.20//NONSGML v1.0//EN
CALSCALE:GREGORIAN
METHOD:PUBLISH
X-WR-CALNAME:Cold Life Entertainment
X-ORIGINAL-URL:https://www.coldlife-entertainment.com
X-WR-CALDESC:Veranstaltungen für Cold Life Entertainment
REFRESH-INTERVAL;VALUE=DURATION:PT1H
X-Robots-Tag:noindex
X-PUBLISHED-TTL:PT1H
BEGIN:VTIMEZONE
TZID:Europe/Berlin
BEGIN:DAYLIGHT
TZOFFSETFROM:+0100
TZOFFSETTO:+0200
TZNAME:CEST
DTSTART:20250330T010000
END:DAYLIGHT
BEGIN:STANDARD
TZOFFSETFROM:+0200
TZOFFSETTO:+0100
TZNAME:CET
DTSTART:20251026T010000
END:STANDARD
BEGIN:DAYLIGHT
TZOFFSETFROM:+0100
TZOFFSETTO:+0200
TZNAME:CEST
DTSTART:20260329T010000
END:DAYLIGHT
BEGIN:STANDARD
TZOFFSETFROM:+0200
TZOFFSETTO:+0100
TZNAME:CET
DTSTART:20261025T010000
END:STANDARD
BEGIN:DAYLIGHT
TZOFFSETFROM:+0100
TZOFFSETTO:+0200
TZNAME:CEST
DTSTART:20270328T010000
END:DAYLIGHT
BEGIN:STANDARD
TZOFFSETFROM:+0200
TZOFFSETTO:+0100
TZNAME:CET
DTSTART:20271031T010000
END:STANDARD
END:VTIMEZONE
BEGIN:VEVENT
DTSTART;TZID=Europe/Berlin:20260116T200000
DTEND;TZID=Europe/Berlin:20260116T233000
DTSTAMP:20260425T133357
CREATED:20250227T064733Z
LAST-MODIFIED:20250227T064740Z
UID:2958-1768593600-1768606200@www.coldlife-entertainment.com
SUMMARY:KC Rebell
DESCRIPTION:PLUS SPECIAL GUEST:\nDER YAVUZ \nKC Rebell ist zurück – und kündigt zugleich seine „finale Tournee“ für den Januar 2026 an! \nDer renommierte Deutschrapper KC Rebell kündigt seine Abschiedstournee an\, die im Januar 2026 stattfinden wird. Diese finale Tournee verspricht\, ein einzigartiges Erlebnis für die Fans zu werden\, da KC Rebell plant\, Songs zu präsentieren\, die er noch nie zuvor live aufgeführt hat. \nKC Rebell\, mit bürgerlichem Namen Hüseyin Köksecen\, hat sich in der deutschen HipHop-Szene einen Namen gemacht und zahlreiche Gold- sowie Platin-Alben veröffentlicht. Seine Abschiedstournee bietet seinen Fans die letzte Gelegenheit\, ihn live zu erleben und in den Genuss einer bislang nie da gewesenen Live-Performance zu kommen. \nNeben seinem festen Tour-Partner Der Yavuz\, der gemeinsam mit KC Rebell einige neue Songs performen wird\, wird es außerdem spannende Special Guests in jeder Stadt geben. \nSeid dabei und verpasst nicht die Chance\, Teil dieses besonderen Moments in der Karriere von KC Rebell zu sein!
URL:https://www.coldlife-entertainment.com/event/kc-rebell-muenchen/
LOCATION:Backstage\, Reitknechtstraße 6\, München\, 80639
ATTACH;FMTTYPE=image/jpeg:https://www.coldlife-entertainment.com/wp-content/uploads/2025/02/KC-Rebell-Pressebild-01-scaled.jpg
ORGANIZER;CN="Cold Life Booking GmbH":MAILTO:info@coldlife-booking.com
END:VEVENT
END:VCALENDAR