BEGIN:VCALENDAR
VERSION:2.0
PRODID:-//Cold Life Entertainment - ECPv6.15.20//NONSGML v1.0//EN
CALSCALE:GREGORIAN
METHOD:PUBLISH
X-WR-CALNAME:Cold Life Entertainment
X-ORIGINAL-URL:https://www.coldlife-entertainment.com
X-WR-CALDESC:Veranstaltungen für Cold Life Entertainment
REFRESH-INTERVAL;VALUE=DURATION:PT1H
X-Robots-Tag:noindex
X-PUBLISHED-TTL:PT1H
BEGIN:VTIMEZONE
TZID:Europe/Berlin
BEGIN:DAYLIGHT
TZOFFSETFROM:+0100
TZOFFSETTO:+0200
TZNAME:CEST
DTSTART:20240331T010000
END:DAYLIGHT
BEGIN:STANDARD
TZOFFSETFROM:+0200
TZOFFSETTO:+0100
TZNAME:CET
DTSTART:20241027T010000
END:STANDARD
BEGIN:DAYLIGHT
TZOFFSETFROM:+0100
TZOFFSETTO:+0200
TZNAME:CEST
DTSTART:20250330T010000
END:DAYLIGHT
BEGIN:STANDARD
TZOFFSETFROM:+0200
TZOFFSETTO:+0100
TZNAME:CET
DTSTART:20251026T010000
END:STANDARD
BEGIN:DAYLIGHT
TZOFFSETFROM:+0100
TZOFFSETTO:+0200
TZNAME:CEST
DTSTART:20260329T010000
END:DAYLIGHT
BEGIN:STANDARD
TZOFFSETFROM:+0200
TZOFFSETTO:+0100
TZNAME:CET
DTSTART:20261025T010000
END:STANDARD
END:VTIMEZONE
BEGIN:VEVENT
DTSTART;TZID=Europe/Berlin:20251023T200000
DTEND;TZID=Europe/Berlin:20251023T233000
DTSTAMP:20260419T165621
CREATED:20241010T042015Z
LAST-MODIFIED:20241010T042021Z
UID:2859-1761249600-1761262200@www.coldlife-entertainment.com
SUMMARY:DAME
DESCRIPTION:Nach dem Erfolg von „Allzeit Bereit“\, der Fortsetzung seines WoW-Evergreens „12 Millionen“\, bestätigt DAME nun für 2025 die erste Hallen-Tournee seit drei Jahren! \nSeit nun über einer Dekade begeistert DAME seine treue Anhängerschaft. Egal\, ob es darum geht\, mit tiefer Stimme über deftige Beats zu brettern oder Ohrwürmer aufs Blatt zu zaubern\, die einen wochenlang nicht mehr in Ruhe lassen. Etliche Top-Ten-Alben\, ausverkaufte Tourneen und rekordverdächtige Zahlen sind nur ein kleiner Auszug der bisherigen Karriere des Begründers deutschsprachiger Gaming-Musik. \nLetzteres wurde kürzlich mit „Allzeit Bereit“\, der Fortsetzung seines WoW-Evergreens „12 Millionen“\, abermals gekonnt unter Beweis gestellt. So generierte DAMEüber Nacht mehr als jeweils 100.000 Aufrufe sowohl auf Spotify als auch auf YouTube\, wo er sich ohne große Anstrengung Platz vier der deutschen Trends sichern konnte. \nNach wohlverdienter Auszeit und Schaffenspause\, mit Ausnahme einer Handvoll ausgewählter Open-Air-Konzerte\, ist die Freude umso größer\, dass kürzlich erschienene Hits wie unter anderem „Zukunft aus Gold“ und „Life Balance“ in den Koffer gestopft werden\, um die Fans 2025 mit der ersten Hallen-Tournee seit 2022 zu beglücken.
URL:https://www.coldlife-entertainment.com/event/dame-hamburg/
LOCATION:Grosse Freiheit 36\, Große Freiheit 36\, Hamburg\, 22767\, Deutschland
ATTACH;FMTTYPE=image/jpeg:https://www.coldlife-entertainment.com/wp-content/uploads/2024/10/DAME-Pressebild-01-©-Philip-Pesic-scaled.jpg
ORGANIZER;CN="Cold Life Booking GmbH":MAILTO:info@coldlife-booking.com
END:VEVENT
END:VCALENDAR